BEGIN:VCALENDAR
VERSION:2.0
PRODID:-//Freedom is Bigger in Texas - ECPv6.15.18//NONSGML v1.0//EN
CALSCALE:GREGORIAN
METHOD:PUBLISH
X-ORIGINAL-URL:https://www.freedomisbigger.com/es/
X-WR-CALDESC:Eventos para Freedom is Bigger in Texas
REFRESH-INTERVAL;VALUE=DURATION:PT1H
X-Robots-Tag:noindex
X-PUBLISHED-TTL:PT1H
BEGIN:VTIMEZONE
TZID:America/Chicago
BEGIN:DAYLIGHT
TZOFFSETFROM:-0600
TZOFFSETTO:-0500
TZNAME:CDT
DTSTART:20240310T080000
END:DAYLIGHT
BEGIN:STANDARD
TZOFFSETFROM:-0500
TZOFFSETTO:-0600
TZNAME:CST
DTSTART:20241103T070000
END:STANDARD
BEGIN:DAYLIGHT
TZOFFSETFROM:-0600
TZOFFSETTO:-0500
TZNAME:CDT
DTSTART:20250309T080000
END:DAYLIGHT
BEGIN:STANDARD
TZOFFSETFROM:-0500
TZOFFSETTO:-0600
TZNAME:CST
DTSTART:20251102T070000
END:STANDARD
BEGIN:DAYLIGHT
TZOFFSETFROM:-0600
TZOFFSETTO:-0500
TZNAME:CDT
DTSTART:20260308T080000
END:DAYLIGHT
BEGIN:STANDARD
TZOFFSETFROM:-0500
TZOFFSETTO:-0600
TZNAME:CST
DTSTART:20261101T070000
END:STANDARD
END:VTIMEZONE
BEGIN:VEVENT
DTSTART;TZID=America/Chicago:20251106T183000
DTEND;TZID=America/Chicago:20251106T203000
DTSTAMP:20260421T072818
CREATED:20251029T170720Z
LAST-MODIFIED:20251029T170720Z
UID:4896-1762453800-1762461000@www.freedomisbigger.com
SUMMARY:Laredo| Freedom Unleashed Tour|Tacos N Taxes Legislative Updates|Nov 6th
DESCRIPTION:Hey Laredo!  This is an invitation to learn more about Texas Legislation in 2025. \nJoin us for this exciting event\, ” Tacos and Taxes Legislative Update.”  Jorge Martinez\, LIBRE Texas Strategic Director\, will be sharing important updates that impact you and your family. \nPeople are ready for real property tax reform. Join our grassroots efforts to bring awareness to the citizens\, so Texans can live their lives filled with Freedom\, Opportunity\, and Prosperity. \nVisit Freedomisbigger.com to find other events near you. \nThursday | November 6th \nPalenque Grill (Private Room) \n4615 San Bernardo Laredo\, TX \n6:30 pm.
URL:https://thelibreinitiative.actcentr.com/Events/laredo-freedom-unleashed-tour-tacos-n-taxes-legislative-updates-nov-6th#new_tab
LOCATION:Palenque Grill\, 4615 San Bernardo Ave.\, Laredo\, TX\, 78041
ORGANIZER;CN="Monica Rodriguez":MAILTO:mrodriguez@belibre.org
END:VEVENT
BEGIN:VEVENT
DTSTART;TZID=America/Chicago:20251111T120000
DTEND;TZID=America/Chicago:20251111T130000
DTSTAMP:20260421T072818
CREATED:20251110T174906Z
LAST-MODIFIED:20251110T174906Z
UID:5019-1762862400-1762866000@www.freedomisbigger.com
SUMMARY:El Paso-Freedom is Bigger in Texas Lunch N Learn
DESCRIPTION:Join us for a session of Lunch N learn to gain information into how local governments spending impact local taxes. It is time the people know all of the information regarding how their tax dollars are being spent.
URL:https://thelibreinitiative.actcentr.com/Events/el-paso-freedom-is-bigger-in-texas-lunch-n-learn_new_new_new_new#new_tab
LOCATION:Stanton Tower\, 100 N Stanton St\, El Paso\, TX\, 79901
END:VEVENT
BEGIN:VEVENT
DTSTART;TZID=America/Chicago:20251112T123000
DTEND;TZID=America/Chicago:20251112T140000
DTSTAMP:20260421T072818
CREATED:20251110T165424Z
LAST-MODIFIED:20251110T165706Z
UID:5001-1762950600-1762956000@www.freedomisbigger.com
SUMMARY:Tea time & Taxes- Freedom is bigger in TX-Mission/McAllen
DESCRIPTION:Join us for Tea Time & Taxes\, a Boston Tea Party inspired conversation on how Texans today can stand up for transparency\, accountability\, and fiscal responsibility. \nAs we approach the 250th Anniversary of the United States\, let’s honor the original fight against unfair taxation by understanding our own local property tax system.
URL:https://thelibreinitiative.actcentr.com/Events/tea-time-taxes-freedom-is-bigger-in-tx-mission-mcallen#new_tab
LOCATION:Downtown Cafe\, 408 N Conway Ave. 78572\, Mission\, TX\, 78572
END:VEVENT
BEGIN:VEVENT
DTSTART;TZID=America/Chicago:20251115T083000
DTEND;TZID=America/Chicago:20251115T130000
DTSTAMP:20260421T072818
CREATED:20251029T171615Z
LAST-MODIFIED:20251029T171615Z
UID:4898-1763195400-1763211600@www.freedomisbigger.com
SUMMARY:Laredo - Freedom Unleashed Tour : Let's Walk Laredo\, November 15th.
DESCRIPTION:Please join The LIBRE Initiative for a Saturday filled with fun and exercise.  Volunteers will gather for several hours to speak to the community about important Texas Policy.   This is grassroots at its very best! \nBring your comfortable shoes\, clothing\, and lots of energy.  We are going to have a blast!  Let your voice be heard.
URL:https://thelibreinitiative.actcentr.com/Events/laredo-freedom-is-bigger-in-texas-let-s-walk-laredo-october-18th-2#new_tab
LOCATION:Danny’s Restuarant\, 4320 McPherson Rd.\, Laredo\, TX\, 78041
ORGANIZER;CN="Monica Rodriguez":MAILTO:mrodriguez@belibre.org
END:VEVENT
BEGIN:VEVENT
DTSTART;TZID=America/Chicago:20251115T090000
DTEND;TZID=America/Chicago:20251115T140000
DTSTAMP:20260421T072818
CREATED:20251029T164811Z
LAST-MODIFIED:20251029T164811Z
UID:4890-1763197200-1763215200@www.freedomisbigger.com
SUMMARY:11/15 Irving\, TX FIBIT Day of Action BlockWalk Party!
DESCRIPTION:🚨Saturday 11/15  Let’s Talk To Our Neighbors!🚨 \nJoin us this 11/15 for a high energy FIBIT Day of Action BlockWalk Party 🎈  as we hit the pavement and bring the Freedom is Bigger in Texas message straight to our neighborhoods! \nThis is more than just knocking doors 🚪  – it’s about connecting with our community\, sharing why fiscal  responsibility matters\, and standing up for limited government and economic freedom. \nBecause nothing says “limited government” like unlimited steps. 🏃‍♀️
URL:https://thelibreinitiative.actcentr.com/Events/11-15-irving-tx-fibit-day-of-action-blockwalk-party#new_tab
LOCATION:Agape Connect\, 460 S Belt Line Rd\, Irving\, TX
ORGANIZER;CN="Gerson Hernandez":MAILTO:ghernandez@belibre.org
END:VEVENT
BEGIN:VEVENT
DTSTART;TZID=America/Chicago:20251115T100000
DTEND;TZID=America/Chicago:20251115T130000
DTSTAMP:20260421T072818
CREATED:20251110T170117Z
LAST-MODIFIED:20251110T170117Z
UID:5003-1763200800-1763211600@www.freedomisbigger.com
SUMMARY:National Day Of Action Freedom Is Bigger In Texas 11-15-25
DESCRIPTION:Join us as we block walk in our local community to raise awareness about local property taxes.
URL:https://thelibreinitiative.actcentr.com/Events/national-day-of-action-freedom-is-bigger-in-texas-11-15-25#new_tab
LOCATION:LIBRE Office McAllen\, 6601 N 10th St.\, McAllen\, tx\, 78504
END:VEVENT
BEGIN:VEVENT
DTSTART;TZID=America/Chicago:20251115T100000
DTEND;TZID=America/Chicago:20251115T140000
DTSTAMP:20260421T072818
CREATED:20251104T190934Z
LAST-MODIFIED:20251104T190934Z
UID:4951-1763200800-1763215200@www.freedomisbigger.com
SUMMARY:El Paso-Freedom is Bigger in Texas Walk the Block National Day of Action
DESCRIPTION:Join us for a fun day of going out into the community to engage and educate our community. Taxes are an issue that impacts everyone\, regardless of anything\, and people should have all the information. An educated community becomes an active community!
URL:https://thelibreinitiative.actcentr.com/Events/el-paso-freedom-is-bigger-in-texas-walk-the-block-national-day-of-action#new_tab
LOCATION:El Paso LIBRE Field Office.\, 7500 Viscount Blvd. 79925\, El Paso\, TX\, 79925
END:VEVENT
BEGIN:VEVENT
DTSTART;TZID=America/Chicago:20251120T130000
DTEND;TZID=America/Chicago:20251120T140000
DTSTAMP:20260421T072818
CREATED:20251104T193855Z
LAST-MODIFIED:20251104T193855Z
UID:4955-1763643600-1763647200@www.freedomisbigger.com
SUMMARY:El Paso-Freedom is Bigger in Texas Ambassador Training Class
DESCRIPTION:Join us for our monthly ambassador training to stay up to date with the issues and tactics that will empower our ambassadors. Our ambassadors are trained and empowered to fight for our communities.
URL:https://thelibreinitiative.actcentr.com/Events/el-paso-freedom-is-bigger-in-texas-ambassador-training-class#new_tab
LOCATION:El Paso LIBRE Field Office.\, 7500 Viscount Blvd. 79925\, El Paso\, TX\, 79925
END:VEVENT
BEGIN:VEVENT
DTSTART;TZID=America/Chicago:20251120T130000
DTEND;TZID=America/Chicago:20251120T140000
DTSTAMP:20260421T072818
CREATED:20251110T180722Z
LAST-MODIFIED:20251110T181430Z
UID:5033-1763643600-1763647200@www.freedomisbigger.com
SUMMARY:El Paso-Freedom is Bigger in Texas Cafe con LIBRE
DESCRIPTION:Join us for some cafe with LIBRE while we discuss the current state of our local governments and the tax increases. We want people to know how their tax dollars are being spent and how their personal economies are being impacted.
URL:https://thelibreinitiative.actcentr.com/Events/el-paso-freedom-is-bigger-in-texas-cafe-con-libre#new_tab
LOCATION:El Paso LIBRE Field Office.\, 7500 Viscount Blvd. 79925\, El Paso\, TX\, 79925
END:VEVENT
BEGIN:VEVENT
DTSTART;TZID=America/Chicago:20251121T180000
DTEND;TZID=America/Chicago:20251121T200000
DTSTAMP:20260421T072818
CREATED:20251110T174331Z
LAST-MODIFIED:20251110T174331Z
UID:5012-1763748000-1763755200@www.freedomisbigger.com
SUMMARY:A slice of gratitude: volunteer friendsgiving
DESCRIPTION:Join us for a warm volunteer Thanksgiving as we celebrate you! the volunteers who made this year possible. In the spirit of gratitude (and pie!)\, each of you will receive a piece of our “Victory pie”\, representing your unique contribution to every win we’ve had this year. Come enjoy food\, fellowship\, and a celebration of our shared impact!!
URL:https://thelibreinitiative.actcentr.com/Events/a-slice-of-gratitude-volunteer-friendsgiving#new_tab
LOCATION:The Libre Initiative McAllen office\, 6601 N 10th St.\, McAllen\, TX\, 78504
END:VEVENT
BEGIN:VEVENT
DTSTART;TZID=America/Chicago:20251122T173000
DTEND;TZID=America/Chicago:20251122T190000
DTSTAMP:20260421T072818
CREATED:20251110T163058Z
LAST-MODIFIED:20251110T163058Z
UID:4988-1763832600-1763838000@www.freedomisbigger.com
SUMMARY:LIBRE-RGV-Celebrating Champions of Change
DESCRIPTION:Dear Team\, \nThis year has been a tremendous success\, and it’s all thanks to your hard work and dedication. At the start of the year\, we fought to ensure Educational Savings Accounts passed—and we did it because of you. \nNext\, we stood together for transparency and accountability in property taxes\, showing up at local city meetings to make it clear that we were present and paying attention. \nFinally\, we educated our communities about bond elections\, and I personally witnessed people become motivated to vote after learning what bonds mean for their future. \nThe results speak for themselves\, but none of this would have been possible without you. Your commitment and effort made the difference. \n  \nTo show my appreciation\, I’d love for us to come together\, share a meal\, and celebrate these incredible wins. Thank you for everything you’ve done—and continue to do—to make an impact.
URL:https://thelibreinitiative.actcentr.com/Events/libre-rgv-celebrating-champions-of-change
LOCATION:Olive Garden\, 7812 N 10th St.\, McAllen\, TX\, 78504
ORGANIZER;CN="Adiel Lara":MAILTO:alara@belibre.org
END:VEVENT
END:VCALENDAR