BEGIN:VCALENDAR
VERSION:2.0
PRODID:-//Freedom is Bigger in Texas - ECPv6.15.18//NONSGML v1.0//EN
CALSCALE:GREGORIAN
METHOD:PUBLISH
X-ORIGINAL-URL:https://www.freedomisbigger.com/es/
X-WR-CALDESC:Eventos para Freedom is Bigger in Texas
REFRESH-INTERVAL;VALUE=DURATION:PT1H
X-Robots-Tag:noindex
X-PUBLISHED-TTL:PT1H
BEGIN:VTIMEZONE
TZID:America/Chicago
BEGIN:DAYLIGHT
TZOFFSETFROM:-0600
TZOFFSETTO:-0500
TZNAME:CDT
DTSTART:20240310T080000
END:DAYLIGHT
BEGIN:STANDARD
TZOFFSETFROM:-0500
TZOFFSETTO:-0600
TZNAME:CST
DTSTART:20241103T070000
END:STANDARD
BEGIN:DAYLIGHT
TZOFFSETFROM:-0600
TZOFFSETTO:-0500
TZNAME:CDT
DTSTART:20250309T080000
END:DAYLIGHT
BEGIN:STANDARD
TZOFFSETFROM:-0500
TZOFFSETTO:-0600
TZNAME:CST
DTSTART:20251102T070000
END:STANDARD
BEGIN:DAYLIGHT
TZOFFSETFROM:-0600
TZOFFSETTO:-0500
TZNAME:CDT
DTSTART:20260308T080000
END:DAYLIGHT
BEGIN:STANDARD
TZOFFSETFROM:-0500
TZOFFSETTO:-0600
TZNAME:CST
DTSTART:20261101T070000
END:STANDARD
END:VTIMEZONE
BEGIN:VEVENT
DTSTART;TZID=America/Chicago:20251002T130000
DTEND;TZID=America/Chicago:20251002T140000
DTSTAMP:20260421T090250
CREATED:20251001T143218Z
LAST-MODIFIED:20251001T143218Z
UID:4749-1759410000-1759413600@www.freedomisbigger.com
SUMMARY:El Paso-Freedom is Bigger in Texas Ambassador Empowerment
DESCRIPTION:Join us on our monthly ambassador training session to learn the skills to become a community leader. Our ambassadors are empowered to better serve the community and maintain the LIBRE name well represented in our community.
URL:https://thelibreinitiative.actcentr.com/Events/el-paso-freedom-is-bigger-in-texas-ambassador-empowerment#new_tab
LOCATION:El Paso LIBRE Field Office.\, 7500 Viscount Blvd. 79925\, El Paso\, TX\, 79925
END:VEVENT
BEGIN:VEVENT
DTSTART;TZID=America/Chicago:20251002T180000
DTEND;TZID=America/Chicago:20251002T210000
DTSTAMP:20260421T090250
CREATED:20250904T163530Z
LAST-MODIFIED:20250904T163530Z
UID:4535-1759428000-1759438800@www.freedomisbigger.com
SUMMARY:10/02 Irving\, TX - Keep Your Hands OFF Our Property...Taxes! #FIBIT
DESCRIPTION:Irving’s cooking up the next city budget\, and let’s just say… things might be rising and we’re not talking about bread. \nWith inflation already giving our wallets a workout\, a little extra property tax might just push things from manageable to meh. \nThat’s why we’re heading to the next City Council meeting not to make noise\, but to make cents. 🪙 \n🗣️ Want to speak? We’ll help you get “on the record” without breaking a sweat. \n✍️ Prefer to sit in support? Great\, your presence speaks volumes. \nIrving is our home\, and homes come with mortgages\, not surprise markups. \nSo let’s show up\, speak kindly\, and keep this budget from turning into a taxy situation. 😉
URL:https://thelibreinitiative.actcentr.com/Events/10-02-irving-tx-keep-your-hands-off-our-property-taxes-fibit#new_tab
LOCATION:Inving City Hall\, 825 W Irving Blvd.\, Irving\, TX\, 75060
ORGANIZER;CN="Gerson Hernandez":MAILTO:ghernandez@belibre.org
END:VEVENT
BEGIN:VEVENT
DTSTART;TZID=America/Chicago:20251007T170000
DTEND;TZID=America/Chicago:20251007T190000
DTSTAMP:20260421T090250
CREATED:20250924T145450Z
LAST-MODIFIED:20250924T145450Z
UID:4647-1759856400-1759863600@www.freedomisbigger.com
SUMMARY:
DESCRIPTION:Stop by The LIBRE Initiative tabling at National Night out- Neighbors Together at \nTriangle Park @ 200 W Mandalay/ Howard \nStop by and grab a can of soda pop and learn how you can have a voice on Property taxes and school bonds! Your voice matters\, and so do YOU!
URL:https://thelibreinitiative.actcentr.com/Events/10-7-tue-national-night-out-neighbors-together#new_tab
LOCATION:Triangle Park\, 200 W Mandalay Dr.\, San Antonio\, TX\, 78212
ORGANIZER;CN="Cyndi Dominguez":MAILTO:Cdominguez@belibre.org
END:VEVENT
BEGIN:VEVENT
DTSTART;TZID=America/Chicago:20251009T103000
DTEND;TZID=America/Chicago:20251009T130000
DTSTAMP:20260421T090250
CREATED:20251001T145114Z
LAST-MODIFIED:20251001T145114Z
UID:4757-1760005800-1760014800@www.freedomisbigger.com
SUMMARY:10/9 Freedom Unleashed tour- bond training
DESCRIPTION:Freedom Unleashed tour- bond training! \nTRAINING ANNOUNCEMENT The Libre Initiative invites you to an exclusive training designed to equip you with the tools to make a real impact in your community. Join us for the most up-to-date and professional training on bond elections and gain practical skills on how to effectively engage with your local government officials. This is your opportunity to strengthen your voice\, grow as a leader\, and be prepared to influence the decisions that shape your city. Spots are limited secure your place today!
URL:https://thelibreinitiative.actcentr.com/Events/freedom-unleashed-tour-bond-training
LOCATION:Temple of Praise Church\, 1620 Pinn Rd\, San Antonio\, Texas\, 78227
ORGANIZER;CN="Cyndi Dominguez":MAILTO:Cdominguez@belibre.org
END:VEVENT
BEGIN:VEVENT
DTSTART;TZID=America/Chicago:20251018T083000
DTEND;TZID=America/Chicago:20251018T133000
DTSTAMP:20260421T090250
CREATED:20251001T150010Z
LAST-MODIFIED:20251001T150010Z
UID:4763-1760776200-1760794200@www.freedomisbigger.com
SUMMARY:Laredo - Freedom Is Bigger in Texas: Let's Walk Laredo\, October 18th
DESCRIPTION:Please join The LIBRE Initiative for a Saturday filled with fun and exercise.  Volunteers will gather for several hours to speak to the community about important Texas Policy.   This is grassroots at its very best! \nBring your comfortable shoes\, clothing\, and lots of energy.  We are going to have a blast!  Let your voice be heard.
URL:https://thelibreinitiative.actcentr.com/Events/laredo-freedom-is-bigger-in-texas-let-s-walk-laredo-october-18th#new_tab
LOCATION:Danny’s Restuarant\, 4320 McPherson Rd.\, Laredo\, TX\, 78041
ORGANIZER;CN="Monica Rodriguez":MAILTO:mrodriguez@belibre.org
END:VEVENT
BEGIN:VEVENT
DTSTART;TZID=America/Chicago:20251018T090000
DTEND;TZID=America/Chicago:20251018T130000
DTSTAMP:20260421T090250
CREATED:20251001T145349Z
LAST-MODIFIED:20251001T145349Z
UID:4759-1760778000-1760792400@www.freedomisbigger.com
SUMMARY:10/18 National Day of Action- Property tax relief - San Antonio
DESCRIPTION:10/18 National Day of Action- Property tax relief. \nJoin us as we head out to knock doors to talk to everyday people about property taxes. \nWe will meet at 1620 Pinn rd. and depart by 9:30am.-1 p.m. \nCome volunteer to help inform your community and go door to door to ask surveys. \nAfter\, volunteers will be able to join us for some fun!
URL:https://thelibreinitiative.actcentr.com/Events/10-18-national-day-of-action-property-tax-relief-san-antonio
LOCATION:Temple of Praise Church\, 1620 Pinn Rd\, San Antonio\, Texas\, 78227
ORGANIZER;CN="Cyndi Dominguez":MAILTO:Cdominguez@belibre.org
END:VEVENT
BEGIN:VEVENT
DTSTART;TZID=America/Chicago:20251018T090000
DTEND;TZID=America/Chicago:20251018T140000
DTSTAMP:20260421T090250
CREATED:20250911T151409Z
LAST-MODIFIED:20250911T151409Z
UID:4585-1760778000-1760796000@www.freedomisbigger.com
SUMMARY:10/18 Irving\, TX FIBIT Day of Action BlockWalk Party!
DESCRIPTION:🚨Saturday 10/18  Let’s Talk To Our Neighbors!🚨 \nJoin us this 10/18 for a high-energy FIBIT Day of Action BlockWalk Party 🎈  as we hit the pavement and bring the Freedom is Bigger in Texas message straight to our neighborhoods! \nThis is more than just knocking doors 🚪  – it’s about connecting with our community\, sharing why fiscal responsibility matters\, and standing up for limited government and economic freedom. \nBecause nothing says “limited government” like unlimited steps. 🏃‍♀️
URL:https://thelibreinitiative.actcentr.com/Events/10-18-irving-tx-fibit-day-of-action-blockwalk-party#new_tab
LOCATION:Agape Connect\, 460 S Belt Line Rd\, Irving\, TX
ORGANIZER;CN="Gerson Hernandez":MAILTO:ghernandez@belibre.org
END:VEVENT
BEGIN:VEVENT
DTSTART;TZID=America/Chicago:20251022T090000
DTEND;TZID=America/Chicago:20251022T140000
DTSTAMP:20260421T090250
CREATED:20251001T143505Z
LAST-MODIFIED:20251001T143505Z
UID:4751-1761123600-1761141600@www.freedomisbigger.com
SUMMARY:El Paso-Freedom is Bigger in Texas Walk the Block Tornillo
DESCRIPTION:Join us as we engage our neighbors in Tornillo to educate them on tax issues that impact our community. We will make sure to keep the Tornillo community informed on tax issues\, so they are not taken advantage off.
URL:https://thelibreinitiative.actcentr.com/Events/el-paso-freedom-is-bigger-in-texas-walk-the-block-tornillo_new#new_tab
LOCATION:El Paso LIBRE Field Office.\, 7500 Viscount Blvd. 79925\, El Paso\, TX\, 79925
END:VEVENT
BEGIN:VEVENT
DTSTART;TZID=America/Chicago:20251028T090000
DTEND;TZID=America/Chicago:20251028T140000
DTSTAMP:20260421T090250
CREATED:20251001T143912Z
LAST-MODIFIED:20251001T143912Z
UID:4753-1761642000-1761660000@www.freedomisbigger.com
SUMMARY:El Paso-Freedom is Bigger in Texas Walk the Block Tornillo
DESCRIPTION:Join us as we engage our neighbors in Tornillo to educate them on tax issues that impact our community. We will make sure to keep the Tornillo community informed on tax issues\, so they are not taken advantage off.
URL:https://thelibreinitiative.actcentr.com/Events/el-paso-freedom-is-bigger-in-texas-walk-the-block_new_new_new_new_new#new_tab
LOCATION:El Paso LIBRE Field Office.\, 7500 Viscount Blvd. 79925\, El Paso\, TX\, 79925
END:VEVENT
BEGIN:VEVENT
DTSTART;TZID=America/Chicago:20251029T090000
DTEND;TZID=America/Chicago:20251029T140000
DTSTAMP:20260421T090250
CREATED:20251027T191108Z
LAST-MODIFIED:20251027T191314Z
UID:4855-1761728400-1761746400@www.freedomisbigger.com
SUMMARY:El Paso-Freedom is Bigger in Texas Walk the Block Tornillo 10/29
DESCRIPTION:Join us as we engage our neighbors in Tornillo to educate them on tax issues that impact our community. We will make sure to keep the Tornillo community informed on tax issues\, so they are not taken advantage of.
URL:https://thelibreinitiative.actcentr.com/Events/el-paso-freedom-is-bigger-in-texas-walk-the-block-tornillo_new#new_tab
LOCATION:El Paso LIBRE Field Office.\, 7500 Viscount Blvd. 79925\, El Paso\, TX\, 79925
END:VEVENT
BEGIN:VEVENT
DTSTART;TZID=America/Chicago:20251030T090000
DTEND;TZID=America/Chicago:20251030T170000
DTSTAMP:20260421T090250
CREATED:20251001T144211Z
LAST-MODIFIED:20251001T144211Z
UID:4755-1761814800-1761843600@www.freedomisbigger.com
SUMMARY:El Paso-Freedom is Bigger in Texas Walk the Block Tornillo
DESCRIPTION:Join us as we engage our neighbors in Tornillo to educate them on tax issues that impact our community. We will make sure to keep the Tornillo community informed on tax issues\, so they are not taken advantage off.
URL:https://thelibreinitiative.actcentr.com/Events/el-paso-freedom-is-bigger-in-texas-walk-the-block-tornillo_new_new#new_tab
LOCATION:El Paso LIBRE Field Office.\, 7500 Viscount Blvd. 79925\, El Paso\, TX\, 79925
END:VEVENT
END:VCALENDAR