BEGIN:VCALENDAR
VERSION:2.0
PRODID:-//Freedom is Bigger in Texas - ECPv6.15.18//NONSGML v1.0//EN
CALSCALE:GREGORIAN
METHOD:PUBLISH
X-ORIGINAL-URL:https://www.freedomisbigger.com/es/
X-WR-CALDESC:Eventos para Freedom is Bigger in Texas
REFRESH-INTERVAL;VALUE=DURATION:PT1H
X-Robots-Tag:noindex
X-PUBLISHED-TTL:PT1H
BEGIN:VTIMEZONE
TZID:America/Chicago
BEGIN:DAYLIGHT
TZOFFSETFROM:-0600
TZOFFSETTO:-0500
TZNAME:CDT
DTSTART:20240310T080000
END:DAYLIGHT
BEGIN:STANDARD
TZOFFSETFROM:-0500
TZOFFSETTO:-0600
TZNAME:CST
DTSTART:20241103T070000
END:STANDARD
BEGIN:DAYLIGHT
TZOFFSETFROM:-0600
TZOFFSETTO:-0500
TZNAME:CDT
DTSTART:20250309T080000
END:DAYLIGHT
BEGIN:STANDARD
TZOFFSETFROM:-0500
TZOFFSETTO:-0600
TZNAME:CST
DTSTART:20251102T070000
END:STANDARD
BEGIN:DAYLIGHT
TZOFFSETFROM:-0600
TZOFFSETTO:-0500
TZNAME:CDT
DTSTART:20260308T080000
END:DAYLIGHT
BEGIN:STANDARD
TZOFFSETFROM:-0500
TZOFFSETTO:-0600
TZNAME:CST
DTSTART:20261101T070000
END:STANDARD
END:VTIMEZONE
BEGIN:VEVENT
DTSTART;TZID=America/Chicago:20250801T190000
DTEND;TZID=America/Chicago:20250801T210000
DTSTAMP:20260421T124538
CREATED:20250723T153514Z
LAST-MODIFIED:20250723T153514Z
UID:4280-1754074800-1754082000@www.freedomisbigger.com
SUMMARY:Laredo - Freedom is Bigger in Texas - LIBRE Ama Laredo Series August 1st
DESCRIPTION:Join The LIBRE Initiative for the “ LIBRE Ama Laredo” Series. \nWe will be exploring Laredo to discover why this City is so special and worth defending. \nOn June 6th\, come to visit the historic Rio Grande Museum and Border Heritage Musuem for the CaminARTE Event. \nWe will be at La Posada Hotel at 8:30pm for a beverage and appetizer. \nIt is time to champion for the Great City of Laredo\, TX.
URL:https://thelibreinitiative.actcentr.com/Events/laredo-freedom-is-bigger-in-texas-ama-laredo-series-june-6th#new_tab
LOCATION:Border Heritage Museum\, 1005 Zaragoza St\, Laredo\, TX 78040\, Laredo\, TX\, 78040
ORGANIZER;CN="Monica Rodriguez":MAILTO:mrodriguez@belibre.org
END:VEVENT
BEGIN:VEVENT
DTSTART;TZID=America/Chicago:20250804T130000
DTEND;TZID=America/Chicago:20250804T140000
DTSTAMP:20260421T124538
CREATED:20250801T184215Z
LAST-MODIFIED:20250801T184215Z
UID:4357-1754312400-1754316000@www.freedomisbigger.com
SUMMARY:Laredo| Freedom Unleashed Tour
DESCRIPTION:The LIBRE Initiative and the Property Tax Ambassador Team gather to “Officially” and “Boldly” launch a Property Tax Reform Campaign in Laredo\, TX. \nThis event is by invitation ONLY.  Team is working on a strategy for August\, September\, and October of 2025. \nWe are a tactical team making positive change in Laredo and Webb County.
URL:https://thelibreinitiative.actcentr.com/Events/laredo-freedom-unleashed-tour-ambassador-planning-aug#new_tab
LOCATION:Rudy’s Bar B Q Restaurant\, 7305 McPherson Rd.\, Laredo\, TX\, 78041
ORGANIZER;CN="Monica Rodriguez":MAILTO:mrodriguez@belibre.org
END:VEVENT
BEGIN:VEVENT
DTSTART;TZID=America/Chicago:20250805T180000
DTEND;TZID=America/Chicago:20250805T193000
DTSTAMP:20260421T124538
CREATED:20250801T182959Z
LAST-MODIFIED:20250801T182959Z
UID:4351-1754416800-1754422200@www.freedomisbigger.com
SUMMARY:Laredo | Freedom Unleashed Tour | Property Tax Talk (Session 1) | August 5th
DESCRIPTION:Meet The LIBRE Initiative Grassroots Engagement Director and local leaders for dinner at Rudy’s Bar-B-Q restaurant as we bring awareness about local spending and the debt that is holding our wallets hostage. \nTexas needs property tax reform because relief is not making its way to the people. The Texas Legislature has delivered $18 billion in relief\, but has your property tax statement reflected a reduction? Appraisal districts keep increasing our values\, and local municipalities increase their budgets. Our property taxes reflect this out-of-control spending. \nThe people are ready for real property tax reform. Join our grassroots efforts to bring awareness to the citizens\, so Texans can live their lives filled with Freedom\, Opportunity\, and Prosperity. \nVisit Freedomisbigger.com to find events near you. \n\nTuesday\, August 5th at 6:00 pm \nRudy’s Bar-B-Q \n7305 McPherson Rd\, Laredo\, TX
URL:https://thelibreinitiative.actcentr.com/Events/laredo-freedom-unleashed-tour-property-tax-talk-august-5th#new_tab
LOCATION:Rudy’s Bar-B-Q Restaurant\, 7305 McPherson Rd.\, Laredo\, TX\, 78041
ORGANIZER;CN="Monica Rodriguez":MAILTO:mrodriguez@belibre.org
END:VEVENT
BEGIN:VEVENT
DTSTART;TZID=America/Chicago:20250806T170000
DTEND;TZID=America/Chicago:20250806T200000
DTSTAMP:20260421T124538
CREATED:20250805T211450Z
LAST-MODIFIED:20250805T211450Z
UID:4391-1754499600-1754510400@www.freedomisbigger.com
SUMMARY:8/6 Freedom Unleashed tour- city council meeting
DESCRIPTION:Join The LIBRE Initiative at the City Council meeting \n8/6 at Municipal Plaza Building\, 5:00 pm. \nWe will be speaking/testifying on Keeping property taxes low. \nPlease contact me for a tshirt size and if you need help preparing a quick testimony.
URL:https://thelibreinitiative.actcentr.com/Events/8-6-freedom-unleashed-tour-city-council-mtng#new_tab
LOCATION:Municipal Plaza Building\, San Antonio\, 401 S Frio St\, San Antonio\, TX\, 78207
ORGANIZER;CN="Cyndi Dominguez":MAILTO:Cdominguez@belibre.org
END:VEVENT
BEGIN:VEVENT
DTSTART;TZID=America/Chicago:20250807T173000
DTEND;TZID=America/Chicago:20250807T190000
DTSTAMP:20260421T124538
CREATED:20250731T215352Z
LAST-MODIFIED:20250731T215352Z
UID:4343-1754587800-1754593200@www.freedomisbigger.com
SUMMARY:Backpack giveaway- Martha mead school
DESCRIPTION:Join us for a back pack giveaway at Martha Mead school. \nHere at The LIBRE Initiative\, we understand that the local economy affects us all! This is at no costs to you\, come and resources. \nWe know that a strong local economy starts with strong families\, and we are here to support you! \nWe will have 80 backpacks to give out. first come first serve.
URL:https://thelibreinitiative.actcentr.com/Events/backpack-giveaway-martha-mead-school#new_tab
LOCATION:Martha Mead Elementary\, 3803 Midhorizon Dr.\, San Antonio\, 78299
ORGANIZER;CN="Cyndi Dominguez":MAILTO:Cdominguez@belibre.org
END:VEVENT
BEGIN:VEVENT
DTSTART;TZID=America/Chicago:20250808T100000
DTEND;TZID=America/Chicago:20250808T120000
DTSTAMP:20260421T124538
CREATED:20250731T214555Z
LAST-MODIFIED:20250731T214555Z
UID:4338-1754647200-1754654400@www.freedomisbigger.com
SUMMARY:8/8 S.A. Freedom Unleashed Tour-Legislative recap with Rep. John Lujan
DESCRIPTION:You’re Invited! Join us for the Freedom Unleashed Tour – where freedom\, opportunity\, and prosperity are set in motion! State Representative John Lujan will deliver a powerful legislative update\, breaking down the latest policies that impact our economy and your everyday freedom as a Texan. \nThis is your chance to connect\, engage\, and take action in shaping a stronger\, more prosperous community\, one where families\, businesses\, and faith leaders come together to keep freedom alive in Texas. Seats are limited — RSVP now to secure your spot!
URL:https://thelibreinitiative.actcentr.com/Events/8-8-s-a-freedom-unleashed-tour-legislative-recap-with-rep-john-lujan#new_tab
LOCATION:Don Pedro’s Mexican Restaurant\, 1526 SW Military Dr.\, San Antonio\, TX\, 78221
ORGANIZER;CN="Cyndi Dominguez":MAILTO:Cdominguez@belibre.org
END:VEVENT
BEGIN:VEVENT
DTSTART;TZID=America/Chicago:20250809T090000
DTEND;TZID=America/Chicago:20250809T120000
DTSTAMP:20260421T124538
CREATED:20250723T154515Z
LAST-MODIFIED:20250723T154515Z
UID:4284-1754730000-1754740800@www.freedomisbigger.com
SUMMARY:Laredo | Freedom Is Bigger in Texas| Back To School Fair |  August 9th
DESCRIPTION:Join The LIBRE Initiative\, other nonprofit organizations\, and local law enforcement agencies for a Back To School Fair. \n350 Backpacks with school supplies By LIBRE. Free hair cuts\, health screenings\, and snacks will be provided by other partner organizations. \nIt will be great fun!  We are sending our South Laredo
URL:https://thelibreinitiative.actcentr.com/Events/laredo-freedom-is-bigger-in-texas-back-to-school-fair-august-9th#new_tab
LOCATION:Ricardo Molina Str. Community Center\, 1600 Orquidia LN\, Laredo\, TX\, 78046
ORGANIZER;CN="Monica Rodriguez":MAILTO:mrodriguez@belibre.org
END:VEVENT
BEGIN:VEVENT
DTSTART;TZID=America/Chicago:20250809T090000
DTEND;TZID=America/Chicago:20250809T120000
DTSTAMP:20260421T124538
CREATED:20250804T133256Z
LAST-MODIFIED:20250804T133256Z
UID:4367-1754730000-1754740800@www.freedomisbigger.com
SUMMARY:8/9 San Antonio back to school Backpack giveaway-Memorial Stadium
DESCRIPTION:Join Univision and The LIBRE Initiative as we collaborate to help families in the community of San Antonio with school supplies\, along with valuable information for their education and health.​ Bring your child to receive a backpack and school supplies\, which will be handed out to the kids of San Antonio (while supplies last).
URL:https://thelibreinitiative.actcentr.com/Events/8-2-san-antonio-back-to-school-backpack-giveaway#new_tab
LOCATION:Harlandale Memorial Stadium\, 4002 Roosevelt Ave.\, San Antonio\, TX\, 78214
ORGANIZER;CN="Cyndi Dominguez":MAILTO:Cdominguez@belibre.org
END:VEVENT
BEGIN:VEVENT
DTSTART;TZID=America/Chicago:20250810T090000
DTEND;TZID=America/Chicago:20250810T100000
DTSTAMP:20260421T124538
CREATED:20250805T212213Z
LAST-MODIFIED:20250805T212213Z
UID:4395-1754816400-1754820000@www.freedomisbigger.com
SUMMARY:8/10 Back pack giveaway Casa De Dios.
DESCRIPTION:A través de The Libre Initiative\, creemos que derribar barreras internas y externas y preparar a los estudiantes para la escuela empodera a las familias porque la libertad es más grande en Texas cuando la oportunidad comienza en el aula. Recoje tu mochila durante el servicio. \nThrough The Libre Initiative\, we believe that breaking down internal and external barriers and ensuring students are prepared for school empowers families because freedom is bigger in Texas when opportunity begins in the classroom
URL:https://thelibreinitiative.actcentr.com/Events/8-10-back-pack-giveaway-casa-de-dios#new_tab
LOCATION:Casa de Dios Iglesia\, 5642 Monterey St. 78237\, San Antonio\, TX\, 78237
ORGANIZER;CN="Cyndi Dominguez":MAILTO:Cdominguez@belibre.org
END:VEVENT
BEGIN:VEVENT
DTSTART;TZID=America/Chicago:20250812T180000
DTEND;TZID=America/Chicago:20250812T193000
DTSTAMP:20260421T124538
CREATED:20250801T185017Z
LAST-MODIFIED:20250801T185017Z
UID:4362-1755021600-1755027000@www.freedomisbigger.com
SUMMARY:Laredo| Freedom Unleashed Tour | Property Tax Talk (Session 2) |Aug 12th
DESCRIPTION:Meet The LIBRE Initiative Grassroots Engagement Directors and local leaders for dinner at Rudy’s Bar-B-Q restuarant as we bring awareness about local spending and the debt that is holding our wallets hostage. \nTexas needs property tax reform because relief is not making its way to the people. The Texas Legislature has delivered $18 billion in relief\, but has your property tax statement reflected a reduction? Appraisal districts keep increasing our values\, and local municipalities increase their budgets. Our property taxes reflect this out-of-control spending. \nThe people are ready for real property tax reform. Join our grassroots efforts to bring awareness to the citizens\, so Texans can live their lives filled with Freedom\, Opportunity\, and Prosperity. \nVisit Freedomisbigger.com to find events near you. \n\nTuesday\, August 12th at 6:00 pm \nRudy’s Bar-B-Q \n7305 McPherson Rd\, Laredo\, TX
URL:https://thelibreinitiative.actcentr.com/Events/laredo-freedom-unleashed-tour-property-tax-talk-session-2-aug-12th#new_tab
LOCATION:Rudy’s Bar B-Q\, 7305 McPherson Rd.\, Laredo\, TX\, 78041
ORGANIZER;CN="Monica Rodriguez":MAILTO:mrodriguez@belibre.org
END:VEVENT
BEGIN:VEVENT
DTSTART;TZID=America/Chicago:20250813T113000
DTEND;TZID=America/Chicago:20250813T133000
DTSTAMP:20260421T124538
CREATED:20250801T131452Z
LAST-MODIFIED:20250801T131452Z
UID:4347-1755084600-1755091800@www.freedomisbigger.com
SUMMARY:8/13 SA Freedom unleashed tour Creative Connection
DESCRIPTION:You have been hand selected to join The Freedom Unleashed Tour on 8/13 SA Ambassador Roundtable- Creative Connection at The CENTRE Club (Located in the Weston Centre). \nThis will be a round table discussion with TOP 10 professionals from your industry to come together to talk about the economy\, property taxes in Texas and the arts industry. \nArts festivals and cultural events can be used to raise awareness about local tax policies or economic issues\, engaging citizens in civic dialogue. When the arts industry helps educate and activate the public\, it strengthens community buy-in for economic and policy reform. \nThis event is limited and invite only.
URL:https://thelibreinitiative.actcentr.com/Events/8-13-sa-ambassador-roundtable-creative-connection#new_tab
LOCATION:The CENTRE Club (inside Weston center) 30th floor\, 112 E Pecan St.\, San Antonio\, TX\, 78205
ORGANIZER;CN="Cyndi Dominguez":MAILTO:Cdominguez@belibre.org
END:VEVENT
BEGIN:VEVENT
DTSTART;TZID=America/Chicago:20250814T120000
DTEND;TZID=America/Chicago:20250814T160000
DTSTAMP:20260421T124538
CREATED:20250812T193123Z
LAST-MODIFIED:20250812T193123Z
UID:4432-1755172800-1755187200@www.freedomisbigger.com
SUMMARY:Laredo | Freedom Unleashed Tour | Laredo Budget Workshop (Day 1)| August 14th
DESCRIPTION:Join the LIBRE Initiative for the City Council Budget Workshop. \nLIBRE encourages residents of Laredo to be empowered and educated in Property Tax Reform. \nDate: August 14th & 15th \nTime: 12:00 noon \nLocation: Joe A Guerra Laredo Public Library\, 1120 E Calton
URL:https://thelibreinitiative.actcentr.com/Events/laredo-freedom-unleashed-tour-laredo-budget-workshop-august-14th#new_tab
LOCATION:Joe A Guerra Laredo Public Library\, 1120 E Calton RD\, Laredo\, TX\, 78041
ORGANIZER;CN="Monica Rodriguez":MAILTO:mrodriguez@belibre.org
END:VEVENT
BEGIN:VEVENT
DTSTART;TZID=America/Chicago:20250816T083000
DTEND;TZID=America/Chicago:20250816T130000
DTSTAMP:20260421T124538
CREATED:20250723T161114Z
LAST-MODIFIED:20250723T161114Z
UID:4288-1755333000-1755349200@www.freedomisbigger.com
SUMMARY:Laredo - Freedom Is Bigger in Texas: Let's Walk Laredo.
DESCRIPTION:Please join The LIBRE Initiative for a Saturday filled with fun and exercise.  Volunteers will gather for several hours to speak to the community about important Texas Policy.   This is grassroots at its very best! \nBring your comfortable shoes\, clothing\, and lots of energy.  We are going to have a blast!  Let your voice be heard.
URL:https://thelibreinitiative.actcentr.com/Events/laredo-freedom-is-bigger-in-texas-let-s-walk-laredo-august-15th#new_tab
LOCATION:Danny’s Restuarant\, 4320 McPherson Rd.\, Laredo\, TX\, 78041
ORGANIZER;CN="Monica Rodriguez":MAILTO:mrodriguez@belibre.org
END:VEVENT
BEGIN:VEVENT
DTSTART;TZID=America/Chicago:20250816T090000
DTEND;TZID=America/Chicago:20250816T210000
DTSTAMP:20260421T124538
CREATED:20250814T172316Z
LAST-MODIFIED:20250814T172316Z
UID:4440-1755334800-1755378000@www.freedomisbigger.com
SUMMARY:8/16 San Antonio National Day of Action
DESCRIPTION:Join us on 8/16\, San Antonio National Day of Action! \nWe will reach out to our local community to do surveys in person\, door to door. \nMeet up at 9 am at Starbucks 2639 NW Loop\, San Antonio\, TX 78230 \n\n\n\n\n\n\n\nIf you would like to make 2-4 hours of phone calls from your home\, that can be arranged as well
URL:https://thelibreinitiative.actcentr.com/Events/8-16-san-antonio-national-day-of-action#new_tab
LOCATION:Starbucks\, 2639 NW Loop\, San Antonio\, TX\, 78230
ORGANIZER;CN="Cyndi Dominguez":MAILTO:Cdominguez@belibre.org
END:VEVENT
BEGIN:VEVENT
DTSTART;TZID=America/Chicago:20250816T100000
DTEND;TZID=America/Chicago:20250816T120000
DTSTAMP:20260421T124538
CREATED:20250812T134915Z
LAST-MODIFIED:20250812T134915Z
UID:4428-1755338400-1755345600@www.freedomisbigger.com
SUMMARY:El Paso-Freedom is Bigger in Texas Walk the Block
DESCRIPTION:Join us for Freedom is Bigger in Texas Walk the Block event\, as we go out into the community to reach out to taxpayers about local taxes. We need to keep our communities informed about the local tax spending.
URL:https://thelibreinitiative.actcentr.com/Events/el-paso-freedom-is-bigger-in-texas-walk-the-block_new_new_new#new_tab
LOCATION:El Paso LIBRE Field Office.\, 7500 Viscount Blvd. 79925\, El Paso\, TX\, 79925
END:VEVENT
END:VCALENDAR