BEGIN:VCALENDAR
VERSION:2.0
PRODID:-//Freedom is Bigger in Texas - ECPv6.15.18//NONSGML v1.0//EN
CALSCALE:GREGORIAN
METHOD:PUBLISH
X-WR-CALNAME:Freedom is Bigger in Texas
X-ORIGINAL-URL:https://www.freedomisbigger.com/es/
X-WR-CALDESC:Eventos para Freedom is Bigger in Texas
REFRESH-INTERVAL;VALUE=DURATION:PT1H
X-Robots-Tag:noindex
X-PUBLISHED-TTL:PT1H
BEGIN:VTIMEZONE
TZID:America/Chicago
BEGIN:DAYLIGHT
TZOFFSETFROM:-0600
TZOFFSETTO:-0500
TZNAME:CDT
DTSTART:20240310T080000
END:DAYLIGHT
BEGIN:STANDARD
TZOFFSETFROM:-0500
TZOFFSETTO:-0600
TZNAME:CST
DTSTART:20241103T070000
END:STANDARD
BEGIN:DAYLIGHT
TZOFFSETFROM:-0600
TZOFFSETTO:-0500
TZNAME:CDT
DTSTART:20250309T080000
END:DAYLIGHT
BEGIN:STANDARD
TZOFFSETFROM:-0500
TZOFFSETTO:-0600
TZNAME:CST
DTSTART:20251102T070000
END:STANDARD
BEGIN:DAYLIGHT
TZOFFSETFROM:-0600
TZOFFSETTO:-0500
TZNAME:CDT
DTSTART:20260308T080000
END:DAYLIGHT
BEGIN:STANDARD
TZOFFSETFROM:-0500
TZOFFSETTO:-0600
TZNAME:CST
DTSTART:20261101T070000
END:STANDARD
END:VTIMEZONE
BEGIN:VEVENT
DTSTART;TZID=America/Chicago:20250608T070000
DTEND;TZID=America/Chicago:20250608T110000
DTSTAMP:20260421T155741
CREATED:20250605T153532Z
LAST-MODIFIED:20250605T153532Z
UID:4188-1749366000-1749380400@www.freedomisbigger.com
SUMMARY:LIBRE Action\, Houston TX " Caminando con Proposito" Tabling event.
DESCRIPTION:🚶‍♂️🌟 Walk with Purpose — Join Us for “Caminando con Propósito” 5K! 🌟🚶‍♀️ \nTogether\, we walk. Together\, we fight. Together\, we win. \nJoin The LIBRE Initiative and a coalition of powerful community partners as we lace up for a meaningful cause: the fight against cancer and the push for a healthier\, more informed Texas. \n🏃‍♀️ “Caminando con Propósito” 5K Walk \nThis walk isn’t just about steps—it’s about purpose. \n✅ Raise awareness in the fight against cancer✅ Celebrate strength in our communities✅ Learn about recent policy wins at the Capitol✅ Sign petitions supporting our future doctors and access to care \nStop by the LIBRE booth to learn how policy is making a difference—and how YOU can be part of the change. \nBring your sneakers\, your voice\, and your purpose. Let’s walk for those who can’t. Let’s walk for a stronger\, healthier Houston. \n  \n#CaminandoConPropósito #LIBREInitiative #HealthEquity #HoustonStrong
URL:https://thelibreinitiative.actcentr.com/Events/libre-action-houston-tx-caminando-con-proposito#new_tab
LOCATION:Terry Hershey Park\, 15200 Memorial DR\, Houston\, TX\, 77079
ORGANIZER;CN="Julian Jurado":MAILTO:jjurado@belibre.org
END:VEVENT
BEGIN:VEVENT
DTSTART;TZID=America/Chicago:20250613T120000
DTEND;TZID=America/Chicago:20250613T210000
DTSTAMP:20260421T155741
CREATED:20250606T190935Z
LAST-MODIFIED:20250606T190935Z
UID:4197-1749816000-1749848400@www.freedomisbigger.com
SUMMARY:6/13 Irving\, TX The LIBRE Initiative VBS Family Day: FIBIT!
DESCRIPTION:Celebrating School Choice & Parental Power \nJoin us for a special VBS Family Day as we celebrate a BIG win 🏆  for Texas families the passage of school 🏫  choice! This isn’t just about policy it’s about possibility. It’s about parents having the power to choose the best educational path for their kids. \n👨‍👩‍👧‍👦 Fun-filled activities for the whole family \n🎨 Hands-on stations for kids to explore learning and leadership \n🎓 Info tables and resources to help families navigate new education options \n📣 A short celebration program honoring the power of parents and the future of freedom in Texas \nSend a Thank you Letter to Lawmaker that made this Opportunity Possible! \nBecause when parents have options\, kids have opportunities. And in Texas\, freedom just got a little bigger.
URL:https://thelibreinitiative.actcentr.com/Events/6-13-irving-tx-the-libre-initiative-vbs-family-day-fibit#new_tab
LOCATION:Agape Connect\, 460 S Belt Line Rd\, Irving\, TX
ORGANIZER;CN="Gerson Hernandez":MAILTO:ghernandez@belibre.org
END:VEVENT
BEGIN:VEVENT
DTSTART;TZID=America/Chicago:20250614T090000
DTEND;TZID=America/Chicago:20250614T110000
DTSTAMP:20260421T155741
CREATED:20250606T185927Z
LAST-MODIFIED:20250606T185927Z
UID:4192-1749891600-1749898800@www.freedomisbigger.com
SUMMARY:Laredo Freedom Is Bigger in Texas\, Flag Day Observation\, June 14th
DESCRIPTION:Join The LIBRE Initiative and American Legion Post 59 (Laredo) for the observance ceremony of National Flag Day.  \nFlags will be honored and properly retired. \nMen and women have given the greatest sacrifice for the American Flag in many battles throughout history.  Bring your family to witness the tribute to OUR Nation.
URL:https://thelibreinitiative.actcentr.com/Events/laredo-freedom-is-bigger-in-texas-ambassador-event-may-19th-2#new_tab
LOCATION:Vietnam Veteran’s Plaza\, 120 E Calton Rd\, Laredo\, TX\, 78045
ORGANIZER;CN="Monica Rodriguez":MAILTO:mrodriguez@belibre.org
END:VEVENT
END:VCALENDAR