BEGIN:VCALENDAR
VERSION:2.0
PRODID:-//Freedom is Bigger in Texas - ECPv6.15.18//NONSGML v1.0//EN
CALSCALE:GREGORIAN
METHOD:PUBLISH
X-ORIGINAL-URL:https://www.freedomisbigger.com/es/
X-WR-CALDESC:Eventos para Freedom is Bigger in Texas
REFRESH-INTERVAL;VALUE=DURATION:PT1H
X-Robots-Tag:noindex
X-PUBLISHED-TTL:PT1H
BEGIN:VTIMEZONE
TZID:America/Chicago
BEGIN:DAYLIGHT
TZOFFSETFROM:-0600
TZOFFSETTO:-0500
TZNAME:CDT
DTSTART:20240310T080000
END:DAYLIGHT
BEGIN:STANDARD
TZOFFSETFROM:-0500
TZOFFSETTO:-0600
TZNAME:CST
DTSTART:20241103T070000
END:STANDARD
BEGIN:DAYLIGHT
TZOFFSETFROM:-0600
TZOFFSETTO:-0500
TZNAME:CDT
DTSTART:20250309T080000
END:DAYLIGHT
BEGIN:STANDARD
TZOFFSETFROM:-0500
TZOFFSETTO:-0600
TZNAME:CST
DTSTART:20251102T070000
END:STANDARD
BEGIN:DAYLIGHT
TZOFFSETFROM:-0600
TZOFFSETTO:-0500
TZNAME:CDT
DTSTART:20260308T080000
END:DAYLIGHT
BEGIN:STANDARD
TZOFFSETFROM:-0500
TZOFFSETTO:-0600
TZNAME:CST
DTSTART:20261101T070000
END:STANDARD
END:VTIMEZONE
BEGIN:VEVENT
DTSTART;TZID=America/Chicago:20250401T123000
DTEND;TZID=America/Chicago:20250401T140000
DTSTAMP:20260421T191955
CREATED:20250401T023324Z
LAST-MODIFIED:20250401T023324Z
UID:3849-1743510600-1743516000@www.freedomisbigger.com
SUMMARY:LIBRE-RGV-Freedom is Bigger in Texas-Empowering Woman through ESAs
DESCRIPTION:Mother’s know their children very well. They know their likes and dislikes\, strengths and weaknesses and will use this knowledge to pick the best educational path for them. With HB3 the bill for School Choice Educational Savimgs Accounts\, women will be empowered to make sound choices in their kid’s educational journey. Join me\, be part of the solution and lets let you make the important choices of your child’s life!
URL:https://thelibreinitiative.actcentr.com/Events/libre-rgv-freedom-is-bigger-in-texas-empowering-woman-through-esas#new_tab
LOCATION:306 N McColl Rd\, McAllen\, TX 78501\, 306 N McColl Rd\, McAllen\, TX 78501\, McAllen\, Texas\, 78501
ORGANIZER;CN="Adiel Lara":MAILTO:alara@belibre.org
END:VEVENT
BEGIN:VEVENT
DTSTART;TZID=America/Chicago:20250413T170000
DTEND;TZID=America/Chicago:20250413T190000
DTSTAMP:20260421T191955
CREATED:20250410T050315Z
LAST-MODIFIED:20250410T050315Z
UID:3858-1744563600-1744570800@www.freedomisbigger.com
SUMMARY:04-13-2025 FIBIT Houston\, TX "Certificates of Obligations "
DESCRIPTION:You’re invited to the Economy Policy Gathering hosted by F.I.B.I.T. and LIBRE INITIATIVE on April 13\, 2025\, in Houston\, TX. Join us for insightful discussions on shaping the future by learning how Certificates of Obligations may affect your wallet. Your presence will be a vital part of fostering meaningful dialogue on how Certificate of Obligations can affect your wallet if local government misused them.
URL:https://thelibreinitiative.actcentr.com/Events/04-13-2025-f-i-b-i-t-houston-tx-economy-policy-gathering#new_tab
LOCATION:LIBRE Houston Office\, 11777 KATY FWY\, HOUSTON\, TX\, 77079\, United States
ORGANIZER;CN="Julian Jurado":MAILTO:jjurado@belibre.org
END:VEVENT
BEGIN:VEVENT
DTSTART;TZID=America/Chicago:20250415T090000
DTEND;TZID=America/Chicago:20250415T170000
DTSTAMP:20260421T191955
CREATED:20250410T045638Z
LAST-MODIFIED:20250410T050442Z
UID:3854-1744707600-1744736400@www.freedomisbigger.com
SUMMARY:04/15 Tacos y Taxes Freedom is Bigger in TX
DESCRIPTION:Join us on 04/15 and send a message that congress must renew the Tax Cuts and Jobs Act to prevent tax hikes that will harm Texas families and businesses. \nWithout renewal\, Texas families will face a $2\,870 tax increase\, including $1\,456 from higher income tax rates. \nTexas businesses—620\,000 strong—will also see $1\,193 in higher taxes\, risking 74\,525 jobs and slowing economic growth\, especially in Latino communities. \nTake action now to protect jobs and keep Texas strong!
URL:https://thelibreinitiative.actcentr.com/Events/04-15-tacos-y-taxes-freedom-is-bigger-in-tx#new_tab
LOCATION:Consulate Of El Salvador\, 7610 N Stemmons Fwy.\, Dallas\, Texas\, 75247
ORGANIZER;CN="Gerson Hernandez":MAILTO:ghernandez@belibre.org
END:VEVENT
BEGIN:VEVENT
DTSTART;TZID=America/Chicago:20250415T120000
DTEND;TZID=America/Chicago:20250415T130000
DTSTAMP:20260421T191955
CREATED:20250412T195831Z
LAST-MODIFIED:20250412T195831Z
UID:3863-1744718400-1744722000@www.freedomisbigger.com
SUMMARY:Laredo - Freedom Is Bigger In Texas Tax Day Event at Kiwanis Club April 15th
DESCRIPTION:Join The LIBRE Initiative as it visits  Kiwanis Club of Laredo to discuss the benefits to Texas families of tax cuts and government spending. \nThe Latino community is growing in influence and seeking policies that align with their values. LIBRE is the only organization with a proven history of protecting freedom and prosperity for Latinos.
URL:https://thelibreinitiative.actcentr.com/Events/laredo-freedom-is-bigger-in-texas-kiwanis-april-6th-english#new_tab
LOCATION:9720 McPherson Rd\, Laredo\, TX 78045\, 9720 McPherson Rd\, Laredo\, TX 78045\, Laredo\, TX\, 78045
ORGANIZER;CN="Monica Rodriguez":MAILTO:mrodriguez@belibre.org
END:VEVENT
BEGIN:VEVENT
DTSTART;TZID=America/Chicago:20250415T130000
DTEND;TZID=America/Chicago:20250415T140000
DTSTAMP:20260421T191955
CREATED:20250331T204557Z
LAST-MODIFIED:20250331T204557Z
UID:3847-1744722000-1744725600@www.freedomisbigger.com
SUMMARY:El Paso-Tax Day\, Freedom is Bigger in Texas
DESCRIPTION:Taxes are a one of the sure things in life\, we invite you to join us for an event where we will discuss how your life is impacted through taxes! Refreshments will be provided! \nFreedom is Bigger in Texas!!
URL:https://thelibreinitiative.actcentr.com/Events/el-paso-tax-day-freedom-is-bigger-in-texas#new_tab
LOCATION:El Paso LIBRE Field Office.\, 7500 Viscount Blvd. 79925\, El Paso\, TX\, 79925
END:VEVENT
BEGIN:VEVENT
DTSTART;TZID=America/Chicago:20250418T170000
DTEND;TZID=America/Chicago:20250418T200000
DTSTAMP:20260421T191955
CREATED:20250418T021237Z
LAST-MODIFIED:20250418T021237Z
UID:3918-1744995600-1745006400@www.freedomisbigger.com
SUMMARY:04-13-2025 FIBIT Houston\, TX "Economy Policy Gathering"
DESCRIPTION:You’re invited to the Economy Policy Gathering hosted by F.I.B.I.T. and LIBRE INITIATIVE on April 18\, 2025\, in Houston\, TX. Join us for insightful discussions on shaping the future by learning how Certificates of Obligations may affect your wallet. Your presence will be a vital part of fostering meaningful dialogue on how Certificate of Obligations can affect your wallet if local government misused them.
URL:https://thelibreinitiative.actcentr.com/Events/04-13-2025-f-i-b-i-t-houston-tx-economy-policy-gathering#new_tab
LOCATION:LIBRE Houston Office\, 11777 KATY FWY\, HOUSTON\, TX\, 77079\, United States
ORGANIZER;CN="Julian Jurado":MAILTO:jjurado@belibre.org
END:VEVENT
BEGIN:VEVENT
DTSTART;TZID=America/Chicago:20250419T110000
DTEND;TZID=America/Chicago:20250419T160000
DTSTAMP:20260421T191955
CREATED:20250418T020810Z
LAST-MODIFIED:20250418T020810Z
UID:3916-1745060400-1745078400@www.freedomisbigger.com
SUMMARY:04-19-2025 "FIBIT" Houston TX\, "Learn about Certificate of Obligations."
DESCRIPTION:You’re invited to a FIBIT event on April 19\, 2025\, in Houston\, TX\, for a unique event to learn how Certificates of Obligation works. Join us as we explore the intersection of policy and creative expression.
URL:https://thelibreinitiative.actcentr.com/Events/04-19-2025-fibit-houston-tx-economy-policy-and-poetry#new_tab
LOCATION:LIBRE Houston Office\, 11777 KATY FWY\, HOUSTON\, TX\, 77079\, United States
ORGANIZER;CN="Julian Jurado":MAILTO:jjurado@belibre.org
END:VEVENT
BEGIN:VEVENT
DTSTART;TZID=America/Chicago:20250422T110000
DTEND;TZID=America/Chicago:20250422T210000
DTSTAMP:20260421T191955
CREATED:20250422T002024Z
LAST-MODIFIED:20250422T002024Z
UID:3950-1745319600-1745355600@www.freedomisbigger.com
SUMMARY:04/22 Lets Taco 'bout Freedom is Bigger in Texas!
DESCRIPTION:Let’s Taco ‘Bout it: Why Freedom is Bigger in Texas \nTexas thrives because we believe in freedom\, not red tape from low taxes to local control. Our state leads the way in proving that limited government works join us for let’s taco doubt it a flavor full conversation on how small government feels big opportunities especially for our communities come for the tacos\, stay for the talk let’s discuss how we keep taxes free prosperous\, and boldly independent.
URL:https://thelibreinitiative.actcentr.com/Events/04-22-lets-taco-bout-freedom-is-bigger-in-texas#new_tab
LOCATION:Rey’s Restaurant\, 2836 N O'Connor Rd.\, Irving\, TX\, 75062
ORGANIZER;CN="Gerson Hernandez":MAILTO:ghernandez@belibre.org
END:VEVENT
BEGIN:VEVENT
DTSTART;TZID=America/Chicago:20250423T120000
DTEND;TZID=America/Chicago:20250423T133000
DTSTAMP:20260421T191955
CREATED:20250421T231911Z
LAST-MODIFIED:20250421T231911Z
UID:3937-1745409600-1745415000@www.freedomisbigger.com
SUMMARY:LIBRE-RGV-Your Local and County Gov. keeps raising your property Taxes!
DESCRIPTION:We cannot allow for our local government to continue to rob us. State Legilslators gave us 18 billion back in property tax relief. Did you really get all that was suppose to be your tax relief? Come and lets see what is going on. Be a part of the solution!
URL:https://thelibreinitiative.actcentr.com/Events/libre-rgv-your-local-and-county-gov-keeps-raising-your-property-taxes#new_tab
LOCATION:Marco Burgers\, 2507 E Griffin Pkwy. 78572\, Mission\, TX\, 78572
ORGANIZER;CN="Adiel Lara":MAILTO:alara@belibre.org
END:VEVENT
BEGIN:VEVENT
DTSTART;TZID=America/Chicago:20250423T143000
DTEND;TZID=America/Chicago:20250423T183000
DTSTAMP:20260421T191955
CREATED:20250421T232415Z
LAST-MODIFIED:20250421T232415Z
UID:3941-1745418600-1745433000@www.freedomisbigger.com
SUMMARY:LIBRE-RGV-Protecting Prosperity-Phone Banking
DESCRIPTION:Help me keep congressman Vicente Gonzalez accountable to his constituents. Help us make calls to Vicente’s constituents and ask them to tell congressmen Vicente we want Tax Cuts and Jobs Act to be extended. Help us make the calls necessary to educate Vicente’s constituents and take an action.
URL:https://thelibreinitiative.actcentr.com/Events/libre-rgv-protecting-prosperity-phone-banking#new_tab
LOCATION:LIBRE Office McAllen\, 6601 N 10th St.\, McAllen\, tx\, 78504
ORGANIZER;CN="Adiel Lara":MAILTO:alara@belibre.org
END:VEVENT
BEGIN:VEVENT
DTSTART;TZID=America/Chicago:20250424T123000
DTEND;TZID=America/Chicago:20250424T143000
DTSTAMP:20260421T191955
CREATED:20250418T231119Z
LAST-MODIFIED:20250418T231119Z
UID:3932-1745497800-1745505000@www.freedomisbigger.com
SUMMARY:The Roundtable collaboration FIBIT
DESCRIPTION:Join the round table collaboration on Economy as we discuss how we can work together to breakdown internal and external barriers\, the future of our nation and policy that directly affects us.
URL:https://thelibreinitiative.actcentr.com/Events/the-roundtable-collaboration#new_tab
LOCATION:La Madeline\, 810 W McDermott Dr\, Allen\, TX\, 75013\, United States
ORGANIZER;CN="Cyndi Dominguez":MAILTO:Cdominguez@belibre.org
END:VEVENT
BEGIN:VEVENT
DTSTART;TZID=America/Chicago:20250424T130000
DTEND;TZID=America/Chicago:20250424T140000
DTSTAMP:20260421T191955
CREATED:20250418T022348Z
LAST-MODIFIED:20250418T022348Z
UID:3920-1745499600-1745503200@www.freedomisbigger.com
SUMMARY:El Paso- Freedom is Bigger in Texas Ambassador Recruitment
DESCRIPTION:We will be hosting an ambassador recruitment event at the LIBRE Office! Come and learn about why Freedom is Bigger in Texas and how you can keep opportunity and freedom bigger!
URL:https://thelibreinitiative.actcentr.com/Events/el-paso-freedom-is-bigger-in-texas-ambassador-recruitment#new_tab
LOCATION:El Paso LIBRE Field Office.\, 7500 Viscount Blvd. 79925\, El Paso\, TX\, 79925
END:VEVENT
BEGIN:VEVENT
DTSTART;TZID=America/Chicago:20250424T130000
DTEND;TZID=America/Chicago:20250424T143000
DTSTAMP:20260421T191955
CREATED:20250412T195524Z
LAST-MODIFIED:20250412T195524Z
UID:3861-1745499600-1745505000@www.freedomisbigger.com
SUMMARY:El Paso- Freedom is Bigger in Texas Ambassador Recruitment
DESCRIPTION:We will be hosting an ambassador recruitment event at the LIBRE Office! Come and learn about why Freedom is Bigger in Texas and how you can keep opportunity and freedom bigger!
URL:https://thelibreinitiative.actcentr.com/Events/el-paso-freedom-is-bigger-in-texas-ambassador-recruitment#new_tab
LOCATION:El Paso LIBRE Field Office.\, 7500 Viscount Blvd. 79925\, El Paso\, TX\, 79925
END:VEVENT
BEGIN:VEVENT
DTSTART;TZID=America/Chicago:20250425T113000
DTEND;TZID=America/Chicago:20250425T130000
DTSTAMP:20260421T191955
CREATED:20250418T011824Z
LAST-MODIFIED:20250418T011824Z
UID:3890-1745580600-1745586000@www.freedomisbigger.com
SUMMARY:Freedom is bigger in Texas Teatime and Taxes
DESCRIPTION:Sippin Tea\, spillin’ facts! \nJoin us for Teatime in Texas a weekly community gathering where we sip tea\, build relationships\, and break down the real impact of taxes on our everyday lives. \nWe’ll help you understand how federal\, state\, and local taxes affect your family\, your business\, and your future. This tax talk is relaxed\, real\, and rooted in empowering our community with knowledge and tools to advocate for change.
URL:https://thelibreinitiative.actcentr.com/Events/freedom-is-bigger-in-texas-teatime-and-taxes_new_new_new#new_tab
LOCATION:1524 N Conway Ave\, Mission\, TX 78572\, 1524 N Conway Ave\, Mission\, TX\, 78572\, United States
ORGANIZER;CN="Nati Sosa":MAILTO:gutiosvaldo@hotmail.com
END:VEVENT
BEGIN:VEVENT
DTSTART;TZID=America/Chicago:20250426T080000
DTEND;TZID=America/Chicago:20250426T120000
DTSTAMP:20260421T191955
CREATED:20250418T020350Z
LAST-MODIFIED:20250418T020350Z
UID:3914-1745654400-1745668800@www.freedomisbigger.com
SUMMARY:F.I.B.I.T. Houston\, Texas "Block Walk\, Door nock\, Inform\, have Fun\, Go!"
DESCRIPTION:You’re Invited! 🎉Block Walk\, Door Knock\, Inform\, Have Fun\, Go! \nJoin us for a high-energy\, community-powered event where we hit the streets\, make connections\, and have a blast doing it! Whether you’re a seasoned volunteer or just curious to get involved\, this is your chance to: \n🚶‍♀️ Walk the block🚪 Knock on doors🗣️ Share important info🎉 Have fun with an awesome crew💥 And GO make a difference! \n  \nBring a friend\, wear comfy shoes\, and come ready to energize the neighborhood! Let’s turn passion into action—see you there!
URL:https://thelibreinitiative.actcentr.com/Events/f-i-b-i-t-houston-texas-block-walk-door-nock-inform-have-fun-go#new_tab
LOCATION:LIBRE Houston Office\, 11777 KATY FWY\, HOUSTON\, TX\, 77079\, United States
ORGANIZER;CN="Julian Jurado":MAILTO:jjurado@belibre.org
END:VEVENT
BEGIN:VEVENT
DTSTART;TZID=America/Chicago:20250426T080000
DTEND;TZID=America/Chicago:20250426T170000
DTSTAMP:20260421T191955
CREATED:20250423T022908Z
LAST-MODIFIED:20250423T022908Z
UID:3958-1745654400-1745686800@www.freedomisbigger.com
SUMMARY:04/26 Irving\, TX FIBIT Day of Action BlockWalk Party!
DESCRIPTION:🚨This Saturday – Let’s Talk To Our Neighbors!🚨  \nJoin us this Saturday for a high energy FIBIT Day of Action BlockWalk Party 🎈  as we hit the pavement and bring the Freedom is Bigger in Texas message straight to our neighborhoods! \nThis is more than just knocking doors 🚪  – it’s about connecting with our community\, sharing why fiscal  responsibility matters\, and standing up for limited government and economic freedom. \nBecause nothing says “limited government” like unlimited steps. 🏃‍♀️ 
URL:https://thelibreinitiative.actcentr.com/Events/04-26-irving-tx-fibit-day-of-action-blockwalk-party#new_tab
LOCATION:Agape Connect\, 460 S Belt Line Rd\, Irving\, TX
ORGANIZER;CN="Gerson Hernandez":MAILTO:ghernandez@belibre.org
END:VEVENT
BEGIN:VEVENT
DTSTART;TZID=America/Chicago:20250426T083000
DTEND;TZID=America/Chicago:20250426T113000
DTSTAMP:20260421T191955
CREATED:20250418T014110Z
LAST-MODIFIED:20250418T014110Z
UID:3902-1745656200-1745667000@www.freedomisbigger.com
SUMMARY:Walk the Talk: Freedom is bigger in Texas Gov. spending awareness walk
DESCRIPTION:Join us! for a community block walk to raise awareness on how government spending impacts everyday Texans. Let’s educate\, engage\, and empower our neighbors to take action and demand accountability and smart fiscal decisions.
URL:https://thelibreinitiative.actcentr.com/Events/walk-the-talk-freedom-is-bigger-in-texas-gov-spending-awareness-walk#new_tab
LOCATION:LIBRE Office McAllen\, 6601 N 10th St.\, McAllen\, tx\, 78504
ORGANIZER;CN="Nati Sosa":MAILTO:gutiosvaldo@hotmail.com
END:VEVENT
BEGIN:VEVENT
DTSTART;TZID=America/Chicago:20250426T083000
DTEND;TZID=America/Chicago:20250426T130000
DTSTAMP:20260421T191955
CREATED:20250421T233627Z
LAST-MODIFIED:20250421T233627Z
UID:3945-1745656200-1745672400@www.freedomisbigger.com
SUMMARY:Laredo - Freedom Is Bigger in Texas: Let's Walk Laredo\, April 26th
DESCRIPTION:Please join The LIBRE Initiative for a Saturday filled with fun and exercise.  Volunteers will gather for several hours to speak to the community about important Texas Policy.   This is grassroots at its very best! \nBring your comfortable shoes\, clothing\, and lots of energy.  We are going to have a blast!  Let your voice be heard.
URL:https://thelibreinitiative.actcentr.com/Events/laredo-freedom-is-bigger-in-texas-let-s-walk-laredo#new_tab
LOCATION:Danny’s Restuarant\, 4320 McPherson Rd.\, Laredo\, TX\, 78041
ORGANIZER;CN="Monica Rodriguez":MAILTO:mrodriguez@belibre.org
END:VEVENT
BEGIN:VEVENT
DTSTART;TZID=America/Chicago:20250426T090000
DTEND;TZID=America/Chicago:20250426T130000
DTSTAMP:20260421T191955
CREATED:20250418T023455Z
LAST-MODIFIED:20250418T023455Z
UID:3926-1745658000-1745672400@www.freedomisbigger.com
SUMMARY:LIBRE-RGV-Freedom is Bigger in Texas-Block Walking
DESCRIPTION:We must say NO to increasing our taxes. Let us get the message out that if the Tax Cuts and Jobs Acts is not extended we will pay more on taxes. We need all the help we can get. We will knock on doors\, engage with our community and tell them what is at stake. Join me as we have these one on one conversations.
URL:https://thelibreinitiative.actcentr.com/Events/libre-rgv-freedom-is-bigger-in-texas-block-walking#new_tab
LOCATION:LIBRE Office McAllen\, 6601 N 10th St.\, McAllen\, tx\, 78504
ORGANIZER;CN="Adiel Lara":MAILTO:alara@belibre.org
END:VEVENT
BEGIN:VEVENT
DTSTART;TZID=America/Chicago:20250426T090000
DTEND;TZID=America/Chicago:20250426T130000
DTSTAMP:20260421T191955
CREATED:20250418T230404Z
LAST-MODIFIED:20250418T230404Z
UID:3928-1745658000-1745672400@www.freedomisbigger.com
SUMMARY:4/26 San Antonio- Block walk with The LIBRE Initiative
DESCRIPTION:Join us for 4/26 San Antonio- Block walk with The LIBRE Initiative. Let us go out and survey new community. \nmeal provided for volunteers who block walk for 4 hours of thier time in active walking and surveys. \nTime to turn the tides for our community!
URL:https://thelibreinitiative.actcentr.com/Events/4-26-san-antonio-block-walk-with-the-libre-initiative#new_tab
LOCATION:Las Palapas\, 8005 Callaghan Rd.\, San Antonio\, TX\, 78230
ORGANIZER;CN="Cyndi Dominguez":MAILTO:Cdominguez@belibre.org
END:VEVENT
BEGIN:VEVENT
DTSTART;TZID=America/Chicago:20250426T090000
DTEND;TZID=America/Chicago:20250426T130000
DTSTAMP:20260421T191955
CREATED:20250421T232929Z
LAST-MODIFIED:20250421T232929Z
UID:3943-1745658000-1745672400@www.freedomisbigger.com
SUMMARY:LIBRE-RGV-Freedom is Bigger in Texas-Block Walking
DESCRIPTION:We must say NO to increasing our taxes. Let us get the message out that if the Tax Cuts and Jobs Acts is not extended we will pay more on taxes. We need all the help we can get. We will knock on doors\, engage with our community and tell them what is at stake. Join me as we have these one on one conversations.
URL:https://thelibreinitiative.actcentr.com/Events/libre-rgv-freedom-is-bigger-in-texas-block-walking#new_tab
LOCATION:LIBRE Office McAllen\, 6601 N 10th St.\, McAllen\, tx\, 78504
ORGANIZER;CN="Adiel Lara":MAILTO:alara@belibre.org
END:VEVENT
BEGIN:VEVENT
DTSTART;TZID=America/Chicago:20250426T090000
DTEND;TZID=America/Chicago:20250426T150000
DTSTAMP:20260421T191955
CREATED:20250418T023135Z
LAST-MODIFIED:20250418T023135Z
UID:3922-1745658000-1745679600@www.freedomisbigger.com
SUMMARY:El Paso-FIBIT\, LIBRE Dia De Los Ninos Dia De Los Libros Tabling
DESCRIPTION:The El Paso LIBRE Chapter will be tabling at the Dia de los Ninos Dia de los Libros Event. \nFreedom is Bigger in Texas\, Learn more about property taxes and Certificate of Obligations.
URL:https://thelibreinitiative.actcentr.com/Events/el-paso-libre-dia-de-los-ninos-dia-de-los-libros-tabling#new_tab
LOCATION:Washington Park\, 4201 E Paisano Dr.\, El Paso\, TX\, 79905
END:VEVENT
BEGIN:VEVENT
DTSTART;TZID=America/Chicago:20250426T120000
DTEND;TZID=America/Chicago:20250426T160000
DTSTAMP:20260421T191955
CREATED:20250416T223958Z
LAST-MODIFIED:20250416T223958Z
UID:3888-1745668800-1745683200@www.freedomisbigger.com
SUMMARY:El Paso-Walk the Block
DESCRIPTION:We will block walk the community to talk to them about the economy. \n  \nLearn more about the LIBRE Initiative and how together we can change our future.
URL:https://thelibreinitiative.actcentr.com/Events/el-paso-walk-the-block#new_tab
LOCATION:El Paso LIBRE Field Office.\, 7500 Viscount Blvd. 79925\, El Paso\, TX\, 79925
END:VEVENT
END:VCALENDAR