BEGIN:VCALENDAR
VERSION:2.0
PRODID:-//Freedom is Bigger in Texas - ECPv6.15.18//NONSGML v1.0//EN
CALSCALE:GREGORIAN
METHOD:PUBLISH
X-WR-CALNAME:Freedom is Bigger in Texas
X-ORIGINAL-URL:https://www.freedomisbigger.com/es/
X-WR-CALDESC:Eventos para Freedom is Bigger in Texas
REFRESH-INTERVAL;VALUE=DURATION:PT1H
X-Robots-Tag:noindex
X-PUBLISHED-TTL:PT1H
BEGIN:VTIMEZONE
TZID:America/Chicago
BEGIN:DAYLIGHT
TZOFFSETFROM:-0600
TZOFFSETTO:-0500
TZNAME:CDT
DTSTART:20230312T080000
END:DAYLIGHT
BEGIN:STANDARD
TZOFFSETFROM:-0500
TZOFFSETTO:-0600
TZNAME:CST
DTSTART:20231105T070000
END:STANDARD
BEGIN:DAYLIGHT
TZOFFSETFROM:-0600
TZOFFSETTO:-0500
TZNAME:CDT
DTSTART:20240310T080000
END:DAYLIGHT
BEGIN:STANDARD
TZOFFSETFROM:-0500
TZOFFSETTO:-0600
TZNAME:CST
DTSTART:20241103T070000
END:STANDARD
BEGIN:DAYLIGHT
TZOFFSETFROM:-0600
TZOFFSETTO:-0500
TZNAME:CDT
DTSTART:20250309T080000
END:DAYLIGHT
BEGIN:STANDARD
TZOFFSETFROM:-0500
TZOFFSETTO:-0600
TZNAME:CST
DTSTART:20251102T070000
END:STANDARD
END:VTIMEZONE
BEGIN:VEVENT
DTSTART;TZID=America/Chicago:20240918T093000
DTEND;TZID=America/Chicago:20240918T103000
DTSTAMP:20260422T073509
CREATED:20240912T224641Z
LAST-MODIFIED:20240912T224858Z
UID:3325-1726651800-1726655400@www.freedomisbigger.com
SUMMARY:NTX: Freedom is Bigger in Texas Breakfast
DESCRIPTION:Join American’s for Prosperity Texas for a morning of meaningful conversation at our Freedom is Bigger in Texas Breakfast. Enjoy a yummy breakfast while we discuss the issues we face around our kitchen table every day. \nWhen: Wednesday\, September 18th\, 2024 \nWhere: Tender’s Smokehouse\, 4226 Preston Road\, Frisco\, TX
URL:https://americansforprosperity.actcentr.com/Events/afp-ntx-freedom-is-bigger-in-texas-breakfast#map
LOCATION:Tender’s Smokehouse\, 4226 Preston Road\, Frisco\, TX\, United States
ORGANIZER;CN="Hannah Beth Jones":MAILTO:HJones@afphq.org
END:VEVENT
BEGIN:VEVENT
DTSTART;TZID=America/Chicago:20240919T170000
DTEND;TZID=America/Chicago:20240919T183000
DTSTAMP:20260422T073509
CREATED:20240912T225725Z
LAST-MODIFIED:20240912T225901Z
UID:3335-1726765200-1726770600@www.freedomisbigger.com
SUMMARY:AFP & YCT UMHB Present: Does Policy Affect Your Education and Career?
DESCRIPTION:AFP-CENTEX will be with the Young Conservatives of Texas (YCT)-UMHB at 5 pm in BALCOM second floor\, room 2. \nInvite fellow students to join us to learn what YCT is doing to effect policy that impacts your education and career. Our guest will discuss with you on how policies impact her career and occupational education and how together we can have Freedom\, Opportunity\, and Prosperity. \nDon’t miss this opportunity to be part of a movement that will decide the direction of our country for years to come. Freedom is Bigger in Texas!!! \ni360 phone calling/door knocking opportunities and training available now. \nDinner provided.
URL:https://americansforprosperity.actcentr.com/Events/afp-centex-19sep24-yct-umhb-does-policy-affect-your-education-and-career
LOCATION:UMHB Balcom\, 900 College St.\, Belton\, TX\, United States
ORGANIZER;CN="Jeffery Ware":MAILTO:jware@afphq.org
END:VEVENT
BEGIN:VEVENT
DTSTART;TZID=America/Chicago:20240920T180000
DTEND;TZID=America/Chicago:20240920T200000
DTSTAMP:20260422T073509
CREATED:20240912T230837Z
LAST-MODIFIED:20240912T230837Z
UID:3341-1726855200-1726862400@www.freedomisbigger.com
SUMMARY:The Seguin Grape Escape for TFRW Team Texas
DESCRIPTION:TFRW Team Texas asked for a wine and cheese party! \nYou asked for a training and one pager! \nAFP-Texas is going to give you what you asked for and more! \nJoin us for the Sequin Grape Escape:   Wine and cheese with training (6-7:30pm) and then 8pm Dinner/socializing befitting the extraordinary TFRW Team Texas! \n6pm – 8pm
URL:https://americansforprosperity.actcentr.com/Events/the-grape-escape-for-tfrw-team-texas
LOCATION:Hampton Inn Seguin\, 130 Larkin Ave.\, Seguin\, TX\, United States
ORGANIZER;CN="Kristi Antonick":MAILTO:Kantonick@afphq.org
END:VEVENT
BEGIN:VEVENT
DTSTART;TZID=America/Chicago:20240927T180000
DTEND;TZID=America/Chicago:20240927T210000
DTSTAMP:20260422T073509
CREATED:20240925T195942Z
LAST-MODIFIED:20240926T164332Z
UID:3405-1727460000-1727470800@www.freedomisbigger.com
SUMMARY:San Antonio - Cena de la Herencia Hispana - "La Cultura Perdida"
DESCRIPTION:Únase a la Iniciativa LIBRE para una Cena de la Herencia Hispana. Experimente el poder de contar historias mientras escuchamos a personas que han roto barreras y superado retos para compartir sus inspiradores viajes. \nJuntos celebraremos la esencia de la perseverancia y la fuerza de nuestra cultura. \nCelebremos nuestra cultura historia a historia. \nPresenta: \nSaul Hernandez de La Nuestra radio \nBrenda Macia de Univision \nOradora principal: Desiree Serna PhDc\, Escritora\, periodista hispana\, autora \nEvento Por La Iniciativa LIBRE — «La Libertad es Más Grande en Texas» \nPor favor contacte a Cyndi Dominguez para más información Cdominguez@belibre.org \nTraducción realizada con la versión gratuita del traductor DeepL.com
URL:https://thelibreinitiative.actcentr.com/Events/san-antonio-hispanic-heritage-dinner-la-cultura-perdida#new_tab
LOCATION:Los Barrios Mexican Restaurant\, 4223 Blanco Rd.\, San Antonio\, TX\, 78212
ORGANIZER;CN="Cyndi Dominguez":MAILTO:Cdominguez@belibre.org
END:VEVENT
END:VCALENDAR