BEGIN:VCALENDAR
VERSION:2.0
PRODID:-//Freedom is Bigger in Texas - ECPv6.15.18//NONSGML v1.0//EN
CALSCALE:GREGORIAN
METHOD:PUBLISH
X-ORIGINAL-URL:https://www.freedomisbigger.com/es/
X-WR-CALDESC:Eventos para Freedom is Bigger in Texas
REFRESH-INTERVAL;VALUE=DURATION:PT1H
X-Robots-Tag:noindex
X-PUBLISHED-TTL:PT1H
BEGIN:VTIMEZONE
TZID:America/Chicago
BEGIN:DAYLIGHT
TZOFFSETFROM:-0600
TZOFFSETTO:-0500
TZNAME:CDT
DTSTART:20240310T080000
END:DAYLIGHT
BEGIN:STANDARD
TZOFFSETFROM:-0500
TZOFFSETTO:-0600
TZNAME:CST
DTSTART:20241103T070000
END:STANDARD
BEGIN:DAYLIGHT
TZOFFSETFROM:-0600
TZOFFSETTO:-0500
TZNAME:CDT
DTSTART:20250309T080000
END:DAYLIGHT
BEGIN:STANDARD
TZOFFSETFROM:-0500
TZOFFSETTO:-0600
TZNAME:CST
DTSTART:20251102T070000
END:STANDARD
BEGIN:DAYLIGHT
TZOFFSETFROM:-0600
TZOFFSETTO:-0500
TZNAME:CDT
DTSTART:20260308T080000
END:DAYLIGHT
BEGIN:STANDARD
TZOFFSETFROM:-0500
TZOFFSETTO:-0600
TZNAME:CST
DTSTART:20261101T070000
END:STANDARD
END:VTIMEZONE
BEGIN:VEVENT
DTSTART;TZID=America/Chicago:20251122T173000
DTEND;TZID=America/Chicago:20251122T190000
DTSTAMP:20260421T090326
CREATED:20251110T163058Z
LAST-MODIFIED:20251110T163058Z
UID:4988-1763832600-1763838000@www.freedomisbigger.com
SUMMARY:LIBRE-RGV-Celebrating Champions of Change
DESCRIPTION:Dear Team\, \nThis year has been a tremendous success\, and it’s all thanks to your hard work and dedication. At the start of the year\, we fought to ensure Educational Savings Accounts passed—and we did it because of you. \nNext\, we stood together for transparency and accountability in property taxes\, showing up at local city meetings to make it clear that we were present and paying attention. \nFinally\, we educated our communities about bond elections\, and I personally witnessed people become motivated to vote after learning what bonds mean for their future. \nThe results speak for themselves\, but none of this would have been possible without you. Your commitment and effort made the difference. \n  \nTo show my appreciation\, I’d love for us to come together\, share a meal\, and celebrate these incredible wins. Thank you for everything you’ve done—and continue to do—to make an impact.
URL:https://thelibreinitiative.actcentr.com/Events/libre-rgv-celebrating-champions-of-change
LOCATION:Olive Garden\, 7812 N 10th St.\, McAllen\, TX\, 78504
ORGANIZER;CN="Adiel Lara":MAILTO:alara@belibre.org
END:VEVENT
END:VCALENDAR