BEGIN:VCALENDAR
VERSION:2.0
PRODID:-//Freedom is Bigger in Texas - ECPv6.15.18//NONSGML v1.0//EN
CALSCALE:GREGORIAN
METHOD:PUBLISH
X-WR-CALNAME:Freedom is Bigger in Texas
X-ORIGINAL-URL:https://www.freedomisbigger.com/es/
X-WR-CALDESC:Eventos para Freedom is Bigger in Texas
REFRESH-INTERVAL;VALUE=DURATION:PT1H
X-Robots-Tag:noindex
X-PUBLISHED-TTL:PT1H
BEGIN:VTIMEZONE
TZID:America/Chicago
BEGIN:DAYLIGHT
TZOFFSETFROM:-0600
TZOFFSETTO:-0500
TZNAME:CDT
DTSTART:20240310T080000
END:DAYLIGHT
BEGIN:STANDARD
TZOFFSETFROM:-0500
TZOFFSETTO:-0600
TZNAME:CST
DTSTART:20241103T070000
END:STANDARD
BEGIN:DAYLIGHT
TZOFFSETFROM:-0600
TZOFFSETTO:-0500
TZNAME:CDT
DTSTART:20250309T080000
END:DAYLIGHT
BEGIN:STANDARD
TZOFFSETFROM:-0500
TZOFFSETTO:-0600
TZNAME:CST
DTSTART:20251102T070000
END:STANDARD
BEGIN:DAYLIGHT
TZOFFSETFROM:-0600
TZOFFSETTO:-0500
TZNAME:CDT
DTSTART:20260308T080000
END:DAYLIGHT
BEGIN:STANDARD
TZOFFSETFROM:-0500
TZOFFSETTO:-0600
TZNAME:CST
DTSTART:20261101T070000
END:STANDARD
END:VTIMEZONE
BEGIN:VEVENT
DTSTART;TZID=America/Chicago:20251009T103000
DTEND;TZID=America/Chicago:20251009T130000
DTSTAMP:20260421T110102
CREATED:20251001T145114Z
LAST-MODIFIED:20251001T145114Z
UID:4757-1760005800-1760014800@www.freedomisbigger.com
SUMMARY:10/9 Freedom Unleashed tour- bond training
DESCRIPTION:Freedom Unleashed tour- bond training! \nTRAINING ANNOUNCEMENT The Libre Initiative invites you to an exclusive training designed to equip you with the tools to make a real impact in your community. Join us for the most up-to-date and professional training on bond elections and gain practical skills on how to effectively engage with your local government officials. This is your opportunity to strengthen your voice\, grow as a leader\, and be prepared to influence the decisions that shape your city. Spots are limited secure your place today!
URL:https://thelibreinitiative.actcentr.com/Events/freedom-unleashed-tour-bond-training
LOCATION:Temple of Praise Church\, 1620 Pinn Rd\, San Antonio\, Texas\, 78227
ORGANIZER;CN="Cyndi Dominguez":MAILTO:Cdominguez@belibre.org
END:VEVENT
END:VCALENDAR