BEGIN:VCALENDAR
VERSION:2.0
PRODID:-//Freedom is Bigger in Texas - ECPv6.15.18//NONSGML v1.0//EN
CALSCALE:GREGORIAN
METHOD:PUBLISH
X-WR-CALNAME:Freedom is Bigger in Texas
X-ORIGINAL-URL:https://www.freedomisbigger.com/es/
X-WR-CALDESC:Eventos para Freedom is Bigger in Texas
REFRESH-INTERVAL;VALUE=DURATION:PT1H
X-Robots-Tag:noindex
X-PUBLISHED-TTL:PT1H
BEGIN:VTIMEZONE
TZID:America/Chicago
BEGIN:DAYLIGHT
TZOFFSETFROM:-0600
TZOFFSETTO:-0500
TZNAME:CDT
DTSTART:20240310T080000
END:DAYLIGHT
BEGIN:STANDARD
TZOFFSETFROM:-0500
TZOFFSETTO:-0600
TZNAME:CST
DTSTART:20241103T070000
END:STANDARD
BEGIN:DAYLIGHT
TZOFFSETFROM:-0600
TZOFFSETTO:-0500
TZNAME:CDT
DTSTART:20250309T080000
END:DAYLIGHT
BEGIN:STANDARD
TZOFFSETFROM:-0500
TZOFFSETTO:-0600
TZNAME:CST
DTSTART:20251102T070000
END:STANDARD
BEGIN:DAYLIGHT
TZOFFSETFROM:-0600
TZOFFSETTO:-0500
TZNAME:CDT
DTSTART:20260308T080000
END:DAYLIGHT
BEGIN:STANDARD
TZOFFSETFROM:-0500
TZOFFSETTO:-0600
TZNAME:CST
DTSTART:20261101T070000
END:STANDARD
END:VTIMEZONE
BEGIN:VEVENT
DTSTART;TZID=America/Chicago:20250929T190000
DTEND;TZID=America/Chicago:20250929T210000
DTSTAMP:20260421T110004
CREATED:20250923T214049Z
LAST-MODIFIED:20250923T214049Z
UID:4640-1759172400-1759179600@www.freedomisbigger.com
SUMMARY:Libre-RGV- Fajitas & Facts:What You Need to Know About Bond Elections
DESCRIPTION:🌮 Fajitas & Facts: Let’s Taco ‘Bout the Bond!\nYou’re invited to a sizzling evening of fajitas and friendly conversation! \nJoin me for dinner as we break down bond elections in simple\, everyday language. Whether you’re new to the topic or just want a refresher\, this is a great chance to learn: \n✅ What a bond election is\n✅ How often a bond can come back if it doesn’t pass\n✅ Why the ballot must say “THIS IS A PROPERTY TAX INCREASE”\n✅ How bonds impact our schools and community \nNo pressure. Just fajitas\, facts\, and good company. \n📅 Date: 9/29/2025\n🕕 Time: 7:00-8:30\n📍 Location: Arturo’s Bar and Grill \n2303 W Expy 83\, Weslaco\, TX 78596 \nLet’s eat\, learn\, and empower our community—one tortilla at a time!
URL:https://thelibreinitiative.actcentr.com/Events/libre-rgv-fajitas-facts-what-you-need-to-know-about-bond-elections#new_tab
LOCATION:Arturo’s Bar and Grill\, 2303 W Expy 83.\, Weslaco\, TX\, 78596
ORGANIZER;CN="Adiel Lara":MAILTO:alara@belibre.org
END:VEVENT
END:VCALENDAR