BEGIN:VCALENDAR
VERSION:2.0
PRODID:-//Freedom is Bigger in Texas - ECPv6.15.18//NONSGML v1.0//EN
CALSCALE:GREGORIAN
METHOD:PUBLISH
X-WR-CALNAME:Freedom is Bigger in Texas
X-ORIGINAL-URL:https://www.freedomisbigger.com/es/
X-WR-CALDESC:Eventos para Freedom is Bigger in Texas
REFRESH-INTERVAL;VALUE=DURATION:PT1H
X-Robots-Tag:noindex
X-PUBLISHED-TTL:PT1H
BEGIN:VTIMEZONE
TZID:America/Chicago
BEGIN:DAYLIGHT
TZOFFSETFROM:-0600
TZOFFSETTO:-0500
TZNAME:CDT
DTSTART:20240310T080000
END:DAYLIGHT
BEGIN:STANDARD
TZOFFSETFROM:-0500
TZOFFSETTO:-0600
TZNAME:CST
DTSTART:20241103T070000
END:STANDARD
BEGIN:DAYLIGHT
TZOFFSETFROM:-0600
TZOFFSETTO:-0500
TZNAME:CDT
DTSTART:20250309T080000
END:DAYLIGHT
BEGIN:STANDARD
TZOFFSETFROM:-0500
TZOFFSETTO:-0600
TZNAME:CST
DTSTART:20251102T070000
END:STANDARD
BEGIN:DAYLIGHT
TZOFFSETFROM:-0600
TZOFFSETTO:-0500
TZNAME:CDT
DTSTART:20260308T080000
END:DAYLIGHT
BEGIN:STANDARD
TZOFFSETFROM:-0500
TZOFFSETTO:-0600
TZNAME:CST
DTSTART:20261101T070000
END:STANDARD
END:VTIMEZONE
BEGIN:VEVENT
DTSTART;TZID=America/Chicago:20250920T083000
DTEND;TZID=America/Chicago:20250920T130000
DTSTAMP:20260421T124317
CREATED:20250904T161307Z
LAST-MODIFIED:20250904T161307Z
UID:4527-1758357000-1758373200@www.freedomisbigger.com
SUMMARY:Laredo - Freedom Is Bigger in Texas: Let's Walk Laredo\, September 20th
DESCRIPTION:Please join The LIBRE Initiative for a Saturday filled with fun and exercise.  Volunteers will gather for several hours to speak to the community about important Texas Policy.   This is grassroots at its very best! \nBring your comfortable shoes\, clothing\, and lots of energy.  We are going to have a blast!  Let your voice be heard.
URL:https://thelibreinitiative.actcentr.com/Events/laredo-freedom-is-bigger-in-texas-let-s-walk-laredo-september-20th#new_tab
LOCATION:Danny’s Restuarant\, 4320 McPherson Rd.\, Laredo\, TX\, 78041
ORGANIZER;CN="Monica Rodriguez":MAILTO:mrodriguez@belibre.org
END:VEVENT
BEGIN:VEVENT
DTSTART;TZID=America/Chicago:20250920T090000
DTEND;TZID=America/Chicago:20250920T130000
DTSTAMP:20260421T124317
CREATED:20250908T212657Z
LAST-MODIFIED:20250908T212657Z
UID:4557-1758358800-1758373200@www.freedomisbigger.com
SUMMARY:9/20 National day of action in San Antonio- property tax
DESCRIPTION:9/20 National day of action in San Antonio- property tax doors. \nJoin us at 1620 Pinn Rd at 9:00 am for tacos and a pep rally as we head out to knock doors till 1 pm \nplus a fun\, exciting luncheon afterwards!
URL:https://thelibreinitiative.actcentr.com/Events/9-20-national-day-of-action-in-san-antonio-property-tax#new_tab
LOCATION:Temple of Praise Church\, 1620 Pinn Rd\, San Antonio\, Texas\, 78227
ORGANIZER;CN="Cyndi Dominguez":MAILTO:Cdominguez@belibre.org
END:VEVENT
BEGIN:VEVENT
DTSTART;TZID=America/Chicago:20250920T090000
DTEND;TZID=America/Chicago:20250920T130000
DTSTAMP:20260421T124317
CREATED:20250911T152129Z
LAST-MODIFIED:20250911T152129Z
UID:4587-1758358800-1758373200@www.freedomisbigger.com
SUMMARY:Mission- National Day Of Action: Freedom is Bigger in Texas
DESCRIPTION:Join us! for a National Day of Action Block Walk! \nWe’re hitting the streets\, sharing important information about your property taxes.
URL:https://thelibreinitiative.actcentr.com/Events/mission-national-day-of-action-freedom-is-bigger-in-texas#new_tab
LOCATION:Mission TX\, 1500 San Felipe Dr.\, Mission\, TX\, 78572
END:VEVENT
BEGIN:VEVENT
DTSTART;TZID=America/Chicago:20250920T090000
DTEND;TZID=America/Chicago:20250920T140000
DTSTAMP:20260421T124317
CREATED:20250904T163023Z
LAST-MODIFIED:20250904T163023Z
UID:4533-1758358800-1758376800@www.freedomisbigger.com
SUMMARY:09/20 Irving\, TX FIBIT Day of Action BlockWalk Party!
DESCRIPTION:🚨Saturday 9/20 – Let’s Talk To Our Neighbors!🚨 \nJoin us this 09/20 for a high-energy FIBIT Day of Action BlockWalk Party 🎈  as we hit the pavement and bring the Freedom is Bigger in Texas message straight to our neighborhoods! \nThis is more than just knocking doors 🚪  – it’s about connecting with our community\, sharing why fiscal responsibility matters\, and standing up for limited government and economic freedom. \nBecause nothing says “limited government” like unlimited steps. 🏃‍♀️
URL:https://thelibreinitiative.actcentr.com/Events/09-20-irving-tx-fibit-day-of-action-blockwalk-party#new_tab
LOCATION:Agape Connect\, 460 S Belt Line Rd\, Irving\, TX
ORGANIZER;CN="Gerson Hernandez":MAILTO:ghernandez@belibre.org
END:VEVENT
BEGIN:VEVENT
DTSTART;TZID=America/Chicago:20250920T100000
DTEND;TZID=America/Chicago:20250920T130000
DTSTAMP:20260421T124317
CREATED:20250904T174020Z
LAST-MODIFIED:20250904T174020Z
UID:4543-1758362400-1758373200@www.freedomisbigger.com
SUMMARY:El Paso-Freedom is Bigger in Texas Walk the Block
DESCRIPTION:Please join us as we reach out to our neighbors to talk about the importance of local bond elections. We will be informing and educating our friends and neighbors on why they should always stay up to date with local issues.
URL:https://thelibreinitiative.actcentr.com/Events/el-paso-freedom-is-bigger-in-texas-walk-the-block_new_new_new_new#new_tab
LOCATION:El Paso LIBRE Field Office.\, 7500 Viscount Blvd. 79925\, El Paso\, TX\, 79925
END:VEVENT
END:VCALENDAR