BEGIN:VCALENDAR
VERSION:2.0
PRODID:-//Freedom is Bigger in Texas - ECPv6.15.18//NONSGML v1.0//EN
CALSCALE:GREGORIAN
METHOD:PUBLISH
X-WR-CALNAME:Freedom is Bigger in Texas
X-ORIGINAL-URL:https://www.freedomisbigger.com/es/
X-WR-CALDESC:Eventos para Freedom is Bigger in Texas
REFRESH-INTERVAL;VALUE=DURATION:PT1H
X-Robots-Tag:noindex
X-PUBLISHED-TTL:PT1H
BEGIN:VTIMEZONE
TZID:America/Chicago
BEGIN:DAYLIGHT
TZOFFSETFROM:-0600
TZOFFSETTO:-0500
TZNAME:CDT
DTSTART:20240310T080000
END:DAYLIGHT
BEGIN:STANDARD
TZOFFSETFROM:-0500
TZOFFSETTO:-0600
TZNAME:CST
DTSTART:20241103T070000
END:STANDARD
BEGIN:DAYLIGHT
TZOFFSETFROM:-0600
TZOFFSETTO:-0500
TZNAME:CDT
DTSTART:20250309T080000
END:DAYLIGHT
BEGIN:STANDARD
TZOFFSETFROM:-0500
TZOFFSETTO:-0600
TZNAME:CST
DTSTART:20251102T070000
END:STANDARD
BEGIN:DAYLIGHT
TZOFFSETFROM:-0600
TZOFFSETTO:-0500
TZNAME:CDT
DTSTART:20260308T080000
END:DAYLIGHT
BEGIN:STANDARD
TZOFFSETFROM:-0500
TZOFFSETTO:-0600
TZNAME:CST
DTSTART:20261101T070000
END:STANDARD
END:VTIMEZONE
BEGIN:VEVENT
DTSTART;TZID=America/Chicago:20250913T090000
DTEND;TZID=America/Chicago:20250913T130000
DTSTAMP:20260421T124235
CREATED:20250909T200022Z
LAST-MODIFIED:20250909T200022Z
UID:4564-1757754000-1757768400@www.freedomisbigger.com
SUMMARY:National Day Of Action Freedom Is Bigger In Texas
DESCRIPTION:Join us! for a National Day of Action Block Walk! \nWe’re hitting the streets\, sharing important information about your property taxes.
URL:https://thelibreinitiative.actcentr.com/Events/national-day-of-action-freedom-is-bigger-in-texas_new_new_new#new_tab
LOCATION:Mission TX\, 1500 San Felipe Dr.\, Mission\, TX\, 78572
END:VEVENT
BEGIN:VEVENT
DTSTART;TZID=America/Chicago:20250913T100000
DTEND;TZID=America/Chicago:20250913T200000
DTSTAMP:20260421T124235
CREATED:20250905T122937Z
LAST-MODIFIED:20250905T122937Z
UID:4551-1757757600-1757793600@www.freedomisbigger.com
SUMMARY:9/13 San Antonio Fiestas Patrias- Market Square
DESCRIPTION:Join the LIBRE Initiative at our tabling and celebrate the Independence of Mexico and its culture\, and its economy. This event attracts thousands of all ages who enjoy traditional music\, food\, and entertainment. This is your opportunity to engage with the fastest-growing consumer group in San Antonio\, one person at a time!
URL:https://thelibreinitiative.actcentr.com/Events/9-13-san-antonio-fiestas-patrias-market-square#new_tab
LOCATION:Historic Market Square\, 514 W Commerce St\, San Antonio\, TX 78207\, San Antonio\, TX\, 78207
ORGANIZER;CN="Cyndi Dominguez":MAILTO:Cdominguez@belibre.org
END:VEVENT
BEGIN:VEVENT
DTSTART;TZID=America/Chicago:20250913T170000
DTEND;TZID=America/Chicago:20250913T213000
DTSTAMP:20260421T124235
CREATED:20250904T165821Z
LAST-MODIFIED:20250904T165821Z
UID:4539-1757782800-1757799000@www.freedomisbigger.com
SUMMARY:El Paso-Mexican Independence Day Celebration
DESCRIPTION:Please join us as we participate in the Mexican Independence Day Celebration hosted by the Mexican Consulate in El Paso. Come have fun and learn about how Freedom is Bigger in Texas heavily resembles our fight for freedom today.
URL:https://thelibreinitiative.actcentr.com/Events/el-paso-mexican-independence-day-celebration#new_tab
LOCATION:El Paso Convention Center\, C Street\, El Paso\, TX\, 79928
END:VEVENT
END:VCALENDAR