BEGIN:VCALENDAR
VERSION:2.0
PRODID:-//Freedom is Bigger in Texas - ECPv6.15.18//NONSGML v1.0//EN
CALSCALE:GREGORIAN
METHOD:PUBLISH
X-WR-CALNAME:Freedom is Bigger in Texas
X-ORIGINAL-URL:https://www.freedomisbigger.com/es/
X-WR-CALDESC:Eventos para Freedom is Bigger in Texas
REFRESH-INTERVAL;VALUE=DURATION:PT1H
X-Robots-Tag:noindex
X-PUBLISHED-TTL:PT1H
BEGIN:VTIMEZONE
TZID:America/Chicago
BEGIN:DAYLIGHT
TZOFFSETFROM:-0600
TZOFFSETTO:-0500
TZNAME:CDT
DTSTART:20240310T080000
END:DAYLIGHT
BEGIN:STANDARD
TZOFFSETFROM:-0500
TZOFFSETTO:-0600
TZNAME:CST
DTSTART:20241103T070000
END:STANDARD
BEGIN:DAYLIGHT
TZOFFSETFROM:-0600
TZOFFSETTO:-0500
TZNAME:CDT
DTSTART:20250309T080000
END:DAYLIGHT
BEGIN:STANDARD
TZOFFSETFROM:-0500
TZOFFSETTO:-0600
TZNAME:CST
DTSTART:20251102T070000
END:STANDARD
BEGIN:DAYLIGHT
TZOFFSETFROM:-0600
TZOFFSETTO:-0500
TZNAME:CDT
DTSTART:20260308T080000
END:DAYLIGHT
BEGIN:STANDARD
TZOFFSETFROM:-0500
TZOFFSETTO:-0600
TZNAME:CST
DTSTART:20261101T070000
END:STANDARD
END:VTIMEZONE
BEGIN:VEVENT
DTSTART;TZID=America/Chicago:20250904T060000
DTEND;TZID=America/Chicago:20250904T210000
DTSTAMP:20260421T124237
CREATED:20250904T162534Z
LAST-MODIFIED:20250904T162534Z
UID:4529-1756965600-1757019600@www.freedomisbigger.com
SUMMARY:09/04 Irving\, TX - Keep Your Hands OFF Our Property...Taxes! #FIBIT
DESCRIPTION:Irving’s cooking up the next city budget\, and let’s just say… things might be rising and we’re not talking about bread. 🍞 \nWith inflation already giving our wallets a workout\, a little extra property tax might just push things from manageable to meh. \nThat’s why we’re heading to the next City Council meeting not to make noise\, but to make cents. 🪙 \n🗣️ Want to speak? We’ll help you get “on the record” without breaking a sweat. \n✍️ Prefer to sit in support? Great\, your presence speaks volumes. \nIrving is our home\, and homes come with mortgages\, not surprise markups. \nSo let’s show up\, speak kindly\, and keep this budget from turning into a taxi situation. 😉
URL:https://thelibreinitiative.actcentr.com/Events/09-04-irving-tx-keep-your-hands-off-our-property-taxes-fibit#new_tab
LOCATION:Inving City Hall\, 825 W Irving Blvd.\, Irving\, TX\, 75060
ORGANIZER;CN="Gerson Hernandez":MAILTO:ghernandez@belibre.org
END:VEVENT
BEGIN:VEVENT
DTSTART;TZID=America/Chicago:20250904T130000
DTEND;TZID=America/Chicago:20250904T150000
DTSTAMP:20260421T124237
CREATED:20250904T164918Z
LAST-MODIFIED:20250904T164918Z
UID:4537-1756990800-1756998000@www.freedomisbigger.com
SUMMARY:El Paso-Freedom is Bigger in Texas Ambassador Training
DESCRIPTION:Join us for our monthly Ambassador training\, in which we keep our ambassadors up to date on everything LIBRE. We make sure that our ambassadors are always ready to represent our organization at community events or LIBRE events.
URL:https://thelibreinitiative.actcentr.com/Events/el-paso-freedom-is-bigger-in-texas-ambassador-training_new_new_new_new_new#new_tab
LOCATION:El Paso LIBRE Field Office.\, 7500 Viscount Blvd. 79925\, El Paso\, TX\, 79925
END:VEVENT
END:VCALENDAR