BEGIN:VCALENDAR
VERSION:2.0
PRODID:-//Freedom is Bigger in Texas - ECPv6.15.18//NONSGML v1.0//EN
CALSCALE:GREGORIAN
METHOD:PUBLISH
X-WR-CALNAME:Freedom is Bigger in Texas
X-ORIGINAL-URL:https://www.freedomisbigger.com/es/
X-WR-CALDESC:Eventos para Freedom is Bigger in Texas
REFRESH-INTERVAL;VALUE=DURATION:PT1H
X-Robots-Tag:noindex
X-PUBLISHED-TTL:PT1H
BEGIN:VTIMEZONE
TZID:America/Chicago
BEGIN:DAYLIGHT
TZOFFSETFROM:-0600
TZOFFSETTO:-0500
TZNAME:CDT
DTSTART:20240310T080000
END:DAYLIGHT
BEGIN:STANDARD
TZOFFSETFROM:-0500
TZOFFSETTO:-0600
TZNAME:CST
DTSTART:20241103T070000
END:STANDARD
BEGIN:DAYLIGHT
TZOFFSETFROM:-0600
TZOFFSETTO:-0500
TZNAME:CDT
DTSTART:20250309T080000
END:DAYLIGHT
BEGIN:STANDARD
TZOFFSETFROM:-0500
TZOFFSETTO:-0600
TZNAME:CST
DTSTART:20251102T070000
END:STANDARD
BEGIN:DAYLIGHT
TZOFFSETFROM:-0600
TZOFFSETTO:-0500
TZNAME:CDT
DTSTART:20260308T080000
END:DAYLIGHT
BEGIN:STANDARD
TZOFFSETFROM:-0500
TZOFFSETTO:-0600
TZNAME:CST
DTSTART:20261101T070000
END:STANDARD
END:VTIMEZONE
BEGIN:VEVENT
DTSTART;TZID=America/Chicago:20250810T090000
DTEND;TZID=America/Chicago:20250810T100000
DTSTAMP:20260421T141747
CREATED:20250805T212213Z
LAST-MODIFIED:20250805T212213Z
UID:4395-1754816400-1754820000@www.freedomisbigger.com
SUMMARY:8/10 Back pack giveaway Casa De Dios.
DESCRIPTION:A través de The Libre Initiative\, creemos que derribar barreras internas y externas y preparar a los estudiantes para la escuela empodera a las familias porque la libertad es más grande en Texas cuando la oportunidad comienza en el aula. Recoje tu mochila durante el servicio. \nThrough The Libre Initiative\, we believe that breaking down internal and external barriers and ensuring students are prepared for school empowers families because freedom is bigger in Texas when opportunity begins in the classroom
URL:https://thelibreinitiative.actcentr.com/Events/8-10-back-pack-giveaway-casa-de-dios#new_tab
LOCATION:Casa de Dios Iglesia\, 5642 Monterey St. 78237\, San Antonio\, TX\, 78237
ORGANIZER;CN="Cyndi Dominguez":MAILTO:Cdominguez@belibre.org
END:VEVENT
END:VCALENDAR