BEGIN:VCALENDAR
VERSION:2.0
PRODID:-//Freedom is Bigger in Texas - ECPv6.15.18//NONSGML v1.0//EN
CALSCALE:GREGORIAN
METHOD:PUBLISH
X-WR-CALNAME:Freedom is Bigger in Texas
X-ORIGINAL-URL:https://www.freedomisbigger.com/es/
X-WR-CALDESC:Eventos para Freedom is Bigger in Texas
REFRESH-INTERVAL;VALUE=DURATION:PT1H
X-Robots-Tag:noindex
X-PUBLISHED-TTL:PT1H
BEGIN:VTIMEZONE
TZID:America/Chicago
BEGIN:DAYLIGHT
TZOFFSETFROM:-0600
TZOFFSETTO:-0500
TZNAME:CDT
DTSTART:20240310T080000
END:DAYLIGHT
BEGIN:STANDARD
TZOFFSETFROM:-0500
TZOFFSETTO:-0600
TZNAME:CST
DTSTART:20241103T070000
END:STANDARD
BEGIN:DAYLIGHT
TZOFFSETFROM:-0600
TZOFFSETTO:-0500
TZNAME:CDT
DTSTART:20250309T080000
END:DAYLIGHT
BEGIN:STANDARD
TZOFFSETFROM:-0500
TZOFFSETTO:-0600
TZNAME:CST
DTSTART:20251102T070000
END:STANDARD
BEGIN:DAYLIGHT
TZOFFSETFROM:-0600
TZOFFSETTO:-0500
TZNAME:CDT
DTSTART:20260308T080000
END:DAYLIGHT
BEGIN:STANDARD
TZOFFSETFROM:-0500
TZOFFSETTO:-0600
TZNAME:CST
DTSTART:20261101T070000
END:STANDARD
END:VTIMEZONE
BEGIN:VEVENT
DTSTART;TZID=America/Chicago:20250809T090000
DTEND;TZID=America/Chicago:20250809T120000
DTSTAMP:20260421T141908
CREATED:20250723T154515Z
LAST-MODIFIED:20250723T154515Z
UID:4284-1754730000-1754740800@www.freedomisbigger.com
SUMMARY:Laredo | Freedom Is Bigger in Texas| Back To School Fair |  August 9th
DESCRIPTION:Join The LIBRE Initiative\, other nonprofit organizations\, and local law enforcement agencies for a Back To School Fair. \n350 Backpacks with school supplies By LIBRE. Free hair cuts\, health screenings\, and snacks will be provided by other partner organizations. \nIt will be great fun!  We are sending our South Laredo
URL:https://thelibreinitiative.actcentr.com/Events/laredo-freedom-is-bigger-in-texas-back-to-school-fair-august-9th#new_tab
LOCATION:Ricardo Molina Str. Community Center\, 1600 Orquidia LN\, Laredo\, TX\, 78046
ORGANIZER;CN="Monica Rodriguez":MAILTO:mrodriguez@belibre.org
END:VEVENT
BEGIN:VEVENT
DTSTART;TZID=America/Chicago:20250809T090000
DTEND;TZID=America/Chicago:20250809T120000
DTSTAMP:20260421T141908
CREATED:20250804T133256Z
LAST-MODIFIED:20250804T133256Z
UID:4367-1754730000-1754740800@www.freedomisbigger.com
SUMMARY:8/9 San Antonio back to school Backpack giveaway-Memorial Stadium
DESCRIPTION:Join Univision and The LIBRE Initiative as we collaborate to help families in the community of San Antonio with school supplies\, along with valuable information for their education and health.​ Bring your child to receive a backpack and school supplies\, which will be handed out to the kids of San Antonio (while supplies last).
URL:https://thelibreinitiative.actcentr.com/Events/8-2-san-antonio-back-to-school-backpack-giveaway#new_tab
LOCATION:Harlandale Memorial Stadium\, 4002 Roosevelt Ave.\, San Antonio\, TX\, 78214
ORGANIZER;CN="Cyndi Dominguez":MAILTO:Cdominguez@belibre.org
END:VEVENT
END:VCALENDAR