BEGIN:VCALENDAR
VERSION:2.0
PRODID:-//Freedom is Bigger in Texas - ECPv6.15.18//NONSGML v1.0//EN
CALSCALE:GREGORIAN
METHOD:PUBLISH
X-WR-CALNAME:Freedom is Bigger in Texas
X-ORIGINAL-URL:https://www.freedomisbigger.com/es/
X-WR-CALDESC:Eventos para Freedom is Bigger in Texas
REFRESH-INTERVAL;VALUE=DURATION:PT1H
X-Robots-Tag:noindex
X-PUBLISHED-TTL:PT1H
BEGIN:VTIMEZONE
TZID:America/Chicago
BEGIN:DAYLIGHT
TZOFFSETFROM:-0600
TZOFFSETTO:-0500
TZNAME:CDT
DTSTART:20240310T080000
END:DAYLIGHT
BEGIN:STANDARD
TZOFFSETFROM:-0500
TZOFFSETTO:-0600
TZNAME:CST
DTSTART:20241103T070000
END:STANDARD
BEGIN:DAYLIGHT
TZOFFSETFROM:-0600
TZOFFSETTO:-0500
TZNAME:CDT
DTSTART:20250309T080000
END:DAYLIGHT
BEGIN:STANDARD
TZOFFSETFROM:-0500
TZOFFSETTO:-0600
TZNAME:CST
DTSTART:20251102T070000
END:STANDARD
BEGIN:DAYLIGHT
TZOFFSETFROM:-0600
TZOFFSETTO:-0500
TZNAME:CDT
DTSTART:20260308T080000
END:DAYLIGHT
BEGIN:STANDARD
TZOFFSETFROM:-0500
TZOFFSETTO:-0600
TZNAME:CST
DTSTART:20261101T070000
END:STANDARD
END:VTIMEZONE
BEGIN:VEVENT
DTSTART;TZID=America/Chicago:20250719T080000
DTEND;TZID=America/Chicago:20250719T120000
DTSTAMP:20260421T155753
CREATED:20250704T005933Z
LAST-MODIFIED:20250704T005933Z
UID:4227-1752912000-1752926400@www.freedomisbigger.com
SUMMARY:LIBRE-RGV-NATIONAL DAY OF ACTION BLOCK WALKING-Property Tax Fight
DESCRIPTION:We need to bring awareness to our community on how our local government is misusing our taxes. We must hold our local government accountable and ask for transparency. There is plenty of room to improve especially when it involves property taxes. Even if you home is fully paid off you will never truly own it if you always must pay high property taxes. Join me as we door knock and engage in a conversation with our local community.
URL:https://thelibreinitiative.actcentr.com/Events/libre-rgv-national-day-of-action-block-walking-local-gov-vs-state-gov#new_tab
LOCATION:LIBRE Office McAllen\, 6601 N 10th St.\, McAllen\, tx\, 78504
ORGANIZER;CN="Adiel Lara":MAILTO:alara@belibre.org
END:VEVENT
BEGIN:VEVENT
DTSTART;TZID=America/Chicago:20250719T083000
DTEND;TZID=America/Chicago:20250719T130000
DTSTAMP:20260421T155753
CREATED:20250704T005203Z
LAST-MODIFIED:20250704T005203Z
UID:4225-1752913800-1752930000@www.freedomisbigger.com
SUMMARY:Laredo - Freedom Is Bigger in Texas: Let's Walk Laredo\, July 19th
DESCRIPTION:Please join The LIBRE Initiative for a Saturday filled with fun and exercise.  Volunteers will gather for several hours to speak to the community about important Texas Policy.   This is grassroots at its very best! \nBring your comfortable shoes\, clothing\, and lots of energy.  We are going to have a blast!  Let your voice be heard.
URL:https://thelibreinitiative.actcentr.com/Events/laredo-freedom-is-bigger-in-texas-let-s-walk-laredo-july-19th#new_tab
LOCATION:Danny’s Restuarant\, 4320 McPherson Rd.\, Laredo\, TX\, 78041
ORGANIZER;CN="Monica Rodriguez":MAILTO:mrodriguez@belibre.org
END:VEVENT
BEGIN:VEVENT
DTSTART;TZID=America/Chicago:20250719T100000
DTEND;TZID=America/Chicago:20250719T130000
DTSTAMP:20260421T155753
CREATED:20250704T001632Z
LAST-MODIFIED:20250704T001632Z
UID:4219-1752919200-1752930000@www.freedomisbigger.com
SUMMARY:El Paso-Freedom is Bigger in Texas Walk the Block
DESCRIPTION:🚶‍♀️🚶‍♂️ Let’s Walk the Block For a Stronger\, Smarter Community! 💬💪 \nJoin us for a community Walk the Block as we chat with neighbors about where our local dollars are going and why it matters! \nLocal spending and rising debt have been growing without enough accountability. It’s time we change that together. \nThis isn’t just a walk\, it’s a movement! We’ll share facts\, spark conversations\, and empower each other with knowledge to make informed decisions for our future. \n💡 Bring your energy\, your voice\, and maybe a friend or two because when the community gets informed\, the community gets stronger. \nLet’s take the first step see you on the block! 🏘️👟
URL:https://thelibreinitiative.actcentr.com/Events/el-paso-freedom-is-bigger-in-texas-walk-the-block_new_new#new_tab
LOCATION:El Paso LIBRE Field Office.\, 7500 Viscount Blvd. 79925\, El Paso\, TX\, 79925
END:VEVENT
END:VCALENDAR