BEGIN:VCALENDAR
VERSION:2.0
PRODID:-//Freedom is Bigger in Texas - ECPv6.15.18//NONSGML v1.0//EN
CALSCALE:GREGORIAN
METHOD:PUBLISH
X-ORIGINAL-URL:https://www.freedomisbigger.com/es/
X-WR-CALDESC:Eventos para Freedom is Bigger in Texas
REFRESH-INTERVAL;VALUE=DURATION:PT1H
X-Robots-Tag:noindex
X-PUBLISHED-TTL:PT1H
BEGIN:VTIMEZONE
TZID:America/Chicago
BEGIN:DAYLIGHT
TZOFFSETFROM:-0600
TZOFFSETTO:-0500
TZNAME:CDT
DTSTART:20240310T080000
END:DAYLIGHT
BEGIN:STANDARD
TZOFFSETFROM:-0500
TZOFFSETTO:-0600
TZNAME:CST
DTSTART:20241103T070000
END:STANDARD
BEGIN:DAYLIGHT
TZOFFSETFROM:-0600
TZOFFSETTO:-0500
TZNAME:CDT
DTSTART:20250309T080000
END:DAYLIGHT
BEGIN:STANDARD
TZOFFSETFROM:-0500
TZOFFSETTO:-0600
TZNAME:CST
DTSTART:20251102T070000
END:STANDARD
BEGIN:DAYLIGHT
TZOFFSETFROM:-0600
TZOFFSETTO:-0500
TZNAME:CDT
DTSTART:20260308T080000
END:DAYLIGHT
BEGIN:STANDARD
TZOFFSETFROM:-0500
TZOFFSETTO:-0600
TZNAME:CST
DTSTART:20261101T070000
END:STANDARD
END:VTIMEZONE
BEGIN:VEVENT
DTSTART;TZID=America/Chicago:20250717T130000
DTEND;TZID=America/Chicago:20250717T140000
DTSTAMP:20260421T160212
CREATED:20250704T000831Z
LAST-MODIFIED:20250704T000831Z
UID:4217-1752757200-1752760800@www.freedomisbigger.com
SUMMARY:El Paso-Freedom is Bigger in Texas Ambassador Training
DESCRIPTION:We will be having our monthly ambassador training\, to keep our ambassadors up to date with the issues that matter to our community. We will continue having training sessions to prepare our ambassadors to represent LIBRE out in the community.
URL:https://thelibreinitiative.actcentr.com/Events/el-paso-freedom-is-bigger-in-texas-ambassador-training_new_new_new#new_tab
LOCATION:El Paso LIBRE Field Office.\, 7500 Viscount Blvd. 79925\, El Paso\, TX\, 79925
END:VEVENT
END:VCALENDAR