BEGIN:VCALENDAR
VERSION:2.0
PRODID:-//Freedom is Bigger in Texas - ECPv6.15.18//NONSGML v1.0//EN
CALSCALE:GREGORIAN
METHOD:PUBLISH
X-ORIGINAL-URL:https://www.freedomisbigger.com/es/
X-WR-CALDESC:Eventos para Freedom is Bigger in Texas
REFRESH-INTERVAL;VALUE=DURATION:PT1H
X-Robots-Tag:noindex
X-PUBLISHED-TTL:PT1H
BEGIN:VTIMEZONE
TZID:America/Chicago
BEGIN:DAYLIGHT
TZOFFSETFROM:-0600
TZOFFSETTO:-0500
TZNAME:CDT
DTSTART:20240310T080000
END:DAYLIGHT
BEGIN:STANDARD
TZOFFSETFROM:-0500
TZOFFSETTO:-0600
TZNAME:CST
DTSTART:20241103T070000
END:STANDARD
BEGIN:DAYLIGHT
TZOFFSETFROM:-0600
TZOFFSETTO:-0500
TZNAME:CDT
DTSTART:20250309T080000
END:DAYLIGHT
BEGIN:STANDARD
TZOFFSETFROM:-0500
TZOFFSETTO:-0600
TZNAME:CST
DTSTART:20251102T070000
END:STANDARD
BEGIN:DAYLIGHT
TZOFFSETFROM:-0600
TZOFFSETTO:-0500
TZNAME:CDT
DTSTART:20260308T080000
END:DAYLIGHT
BEGIN:STANDARD
TZOFFSETFROM:-0500
TZOFFSETTO:-0600
TZNAME:CST
DTSTART:20261101T070000
END:STANDARD
END:VTIMEZONE
BEGIN:VEVENT
DTSTART;TZID=America/Chicago:20250712T190000
DTEND;TZID=America/Chicago:20250712T210000
DTSTAMP:20260421T160327
CREATED:20250703T235525Z
LAST-MODIFIED:20250703T235525Z
UID:4213-1752346800-1752354000@www.freedomisbigger.com
SUMMARY:El Paso-Freedom is Bigger in Texas Zen Night 1
DESCRIPTION:We are excited to partner with Skin With B to host a night of fun\, relaxation\, and community engagement. While attendees unwind and enjoy the evening\, they will also have the opportunity to learn about property taxes and how they can disrupt personal relaxation and peace of mind.
URL:https://thelibreinitiative.actcentr.com/Events/el-paso-freedom-is-bigger-in-texas-zen-night-1#new_tab
LOCATION:Skin With B\, 840 E Redd Rd Bldg 1A Suite E\, El Paso\, TX\, 79912
END:VEVENT
END:VCALENDAR