BEGIN:VCALENDAR
VERSION:2.0
PRODID:-//Freedom is Bigger in Texas - ECPv6.15.18//NONSGML v1.0//EN
CALSCALE:GREGORIAN
METHOD:PUBLISH
X-WR-CALNAME:Freedom is Bigger in Texas
X-ORIGINAL-URL:https://www.freedomisbigger.com/es/
X-WR-CALDESC:Eventos para Freedom is Bigger in Texas
REFRESH-INTERVAL;VALUE=DURATION:PT1H
X-Robots-Tag:noindex
X-PUBLISHED-TTL:PT1H
BEGIN:VTIMEZONE
TZID:America/Chicago
BEGIN:DAYLIGHT
TZOFFSETFROM:-0600
TZOFFSETTO:-0500
TZNAME:CDT
DTSTART:20240310T080000
END:DAYLIGHT
BEGIN:STANDARD
TZOFFSETFROM:-0500
TZOFFSETTO:-0600
TZNAME:CST
DTSTART:20241103T070000
END:STANDARD
BEGIN:DAYLIGHT
TZOFFSETFROM:-0600
TZOFFSETTO:-0500
TZNAME:CDT
DTSTART:20250309T080000
END:DAYLIGHT
BEGIN:STANDARD
TZOFFSETFROM:-0500
TZOFFSETTO:-0600
TZNAME:CST
DTSTART:20251102T070000
END:STANDARD
BEGIN:DAYLIGHT
TZOFFSETFROM:-0600
TZOFFSETTO:-0500
TZNAME:CDT
DTSTART:20260308T080000
END:DAYLIGHT
BEGIN:STANDARD
TZOFFSETFROM:-0500
TZOFFSETTO:-0600
TZNAME:CST
DTSTART:20261101T070000
END:STANDARD
END:VTIMEZONE
BEGIN:VEVENT
DTSTART;TZID=America/Chicago:20250710T140000
DTEND;TZID=America/Chicago:20250710T180000
DTSTAMP:20260421T155752
CREATED:20250704T003152Z
LAST-MODIFIED:20250704T003152Z
UID:4223-1752156000-1752170400@www.freedomisbigger.com
SUMMARY:McAllen Freedom is bigger in Texas phone bank
DESCRIPTION:Join us for a Libre Phone Banking Event! \nHelp us connect with our community and share important information about the issues that matter most freedom\, opportunity\, and prosperity. Whether you’re a first timer or a seasoned volunteer\, your voice can make a difference!
URL:https://thelibreinitiative.actcentr.com/Events/mcallen-freedom-is-bigger-in-texas-phone-bank#new_tab
LOCATION:LIBRE Office McAllen\, 6601 N 10th St.\, McAllen\, tx\, 78504
ORGANIZER;CN="Nati Sosa":MAILTO:gutiosvaldo@hotmail.com
END:VEVENT
END:VCALENDAR