BEGIN:VCALENDAR
VERSION:2.0
PRODID:-//Freedom is Bigger in Texas - ECPv6.15.18//NONSGML v1.0//EN
CALSCALE:GREGORIAN
METHOD:PUBLISH
X-ORIGINAL-URL:https://www.freedomisbigger.com/es/
X-WR-CALDESC:Eventos para Freedom is Bigger in Texas
REFRESH-INTERVAL;VALUE=DURATION:PT1H
X-Robots-Tag:noindex
X-PUBLISHED-TTL:PT1H
BEGIN:VTIMEZONE
TZID:America/Chicago
BEGIN:DAYLIGHT
TZOFFSETFROM:-0600
TZOFFSETTO:-0500
TZNAME:CDT
DTSTART:20240310T080000
END:DAYLIGHT
BEGIN:STANDARD
TZOFFSETFROM:-0500
TZOFFSETTO:-0600
TZNAME:CST
DTSTART:20241103T070000
END:STANDARD
BEGIN:DAYLIGHT
TZOFFSETFROM:-0600
TZOFFSETTO:-0500
TZNAME:CDT
DTSTART:20250309T080000
END:DAYLIGHT
BEGIN:STANDARD
TZOFFSETFROM:-0500
TZOFFSETTO:-0600
TZNAME:CST
DTSTART:20251102T070000
END:STANDARD
BEGIN:DAYLIGHT
TZOFFSETFROM:-0600
TZOFFSETTO:-0500
TZNAME:CDT
DTSTART:20260308T080000
END:DAYLIGHT
BEGIN:STANDARD
TZOFFSETFROM:-0500
TZOFFSETTO:-0600
TZNAME:CST
DTSTART:20261101T070000
END:STANDARD
END:VTIMEZONE
BEGIN:VEVENT
DTSTART;TZID=America/Chicago:20250709T090000
DTEND;TZID=America/Chicago:20250709T120000
DTSTAMP:20260421T160331
CREATED:20250703T234345Z
LAST-MODIFIED:20250703T234345Z
UID:4209-1752051600-1752062400@www.freedomisbigger.com
SUMMARY:El Paso-Back to School Event Surratt Elementary
DESCRIPTION:🎒 Back to School Bash with Guadalupe Giner & Surratt Elementary! 🎉 \nWe’re thrilled to be teaming up with Guadalupe Giner for an amazing Back to School event at Surratt Elementary! Together\, we’ll be giving out backpacks to help students start the year off strong and ready to learn. \nBut that’s not all we’ll also be connecting with families and community members to hear directly from YOU. We want to know what really makes a difference in your daily lives and how we can support each other in even bigger ways. \nIt’s all about coming together\, giving back\, and making an impact. Let’s kick off the school year with purpose and excitement! 💥 \n  \nWe can’t wait to see you there!
URL:https://thelibreinitiative.actcentr.com/Events/el-paso-back-to-school-event-surratt-elementary#new_tab
LOCATION:William D. Surratt Elementary\, 12675 Alameda Ave\, Clint\, TX\, 79836
END:VEVENT
END:VCALENDAR