BEGIN:VCALENDAR
VERSION:2.0
PRODID:-//Freedom is Bigger in Texas - ECPv6.15.18//NONSGML v1.0//EN
CALSCALE:GREGORIAN
METHOD:PUBLISH
X-WR-CALNAME:Freedom is Bigger in Texas
X-ORIGINAL-URL:https://www.freedomisbigger.com/es/
X-WR-CALDESC:Eventos para Freedom is Bigger in Texas
REFRESH-INTERVAL;VALUE=DURATION:PT1H
X-Robots-Tag:noindex
X-PUBLISHED-TTL:PT1H
BEGIN:VTIMEZONE
TZID:America/Chicago
BEGIN:DAYLIGHT
TZOFFSETFROM:-0600
TZOFFSETTO:-0500
TZNAME:CDT
DTSTART:20240310T080000
END:DAYLIGHT
BEGIN:STANDARD
TZOFFSETFROM:-0500
TZOFFSETTO:-0600
TZNAME:CST
DTSTART:20241103T070000
END:STANDARD
BEGIN:DAYLIGHT
TZOFFSETFROM:-0600
TZOFFSETTO:-0500
TZNAME:CDT
DTSTART:20250309T080000
END:DAYLIGHT
BEGIN:STANDARD
TZOFFSETFROM:-0500
TZOFFSETTO:-0600
TZNAME:CST
DTSTART:20251102T070000
END:STANDARD
BEGIN:DAYLIGHT
TZOFFSETFROM:-0600
TZOFFSETTO:-0500
TZNAME:CDT
DTSTART:20260308T080000
END:DAYLIGHT
BEGIN:STANDARD
TZOFFSETFROM:-0500
TZOFFSETTO:-0600
TZNAME:CST
DTSTART:20261101T070000
END:STANDARD
END:VTIMEZONE
BEGIN:VEVENT
DTSTART;TZID=America/Chicago:20250523T113000
DTEND;TZID=America/Chicago:20250523T130000
DTSTAMP:20260421T191655
CREATED:20250418T013149Z
LAST-MODIFIED:20250418T013452Z
UID:3897-1747999800-1748005200@www.freedomisbigger.com
SUMMARY:Freedom is bigger in Texas Teatime and Taxes
DESCRIPTION:Sippin Tea\, spillin’ facts! \nJoin us for Teatime in Texas a weekly community gathering where we sip tea\, build relationships\, and break down the real impact of taxes on our everyday lives. \nWe’ll help you understand how federal\, state\, and local taxes affect your family\, your business\, and your future. This tax talk is relaxed\, real\, and rooted in empowering our community with knowledge and tools to advocate for change.
URL:https://thelibreinitiative.actcentr.com/Events/freedom-is-bigger-in-texas-teatime-and-taxes_new_new_new_new_new#new_tab
LOCATION:De’vine Tea Room\, 1524 N Conway Ave.\, Mission\, TX\, 78572
ORGANIZER;CN="Nati Sosa":MAILTO:gutiosvaldo@hotmail.com
END:VEVENT
END:VCALENDAR