BEGIN:VCALENDAR
VERSION:2.0
PRODID:-//Freedom is Bigger in Texas - ECPv6.15.18//NONSGML v1.0//EN
CALSCALE:GREGORIAN
METHOD:PUBLISH
X-WR-CALNAME:Freedom is Bigger in Texas
X-ORIGINAL-URL:https://www.freedomisbigger.com/es/
X-WR-CALDESC:Eventos para Freedom is Bigger in Texas
REFRESH-INTERVAL;VALUE=DURATION:PT1H
X-Robots-Tag:noindex
X-PUBLISHED-TTL:PT1H
BEGIN:VTIMEZONE
TZID:America/Chicago
BEGIN:DAYLIGHT
TZOFFSETFROM:-0600
TZOFFSETTO:-0500
TZNAME:CDT
DTSTART:20240310T080000
END:DAYLIGHT
BEGIN:STANDARD
TZOFFSETFROM:-0500
TZOFFSETTO:-0600
TZNAME:CST
DTSTART:20241103T070000
END:STANDARD
BEGIN:DAYLIGHT
TZOFFSETFROM:-0600
TZOFFSETTO:-0500
TZNAME:CDT
DTSTART:20250309T080000
END:DAYLIGHT
BEGIN:STANDARD
TZOFFSETFROM:-0500
TZOFFSETTO:-0600
TZNAME:CST
DTSTART:20251102T070000
END:STANDARD
BEGIN:DAYLIGHT
TZOFFSETFROM:-0600
TZOFFSETTO:-0500
TZNAME:CDT
DTSTART:20260308T080000
END:DAYLIGHT
BEGIN:STANDARD
TZOFFSETFROM:-0500
TZOFFSETTO:-0600
TZNAME:CST
DTSTART:20261101T070000
END:STANDARD
END:VTIMEZONE
BEGIN:VEVENT
DTSTART;TZID=America/Chicago:20250517T090000
DTEND;TZID=America/Chicago:20250517T130000
DTSTAMP:20260421T191650
CREATED:20250514T011359Z
LAST-MODIFIED:20250514T011359Z
UID:4162-1747472400-1747486800@www.freedomisbigger.com
SUMMARY:5/17 San Antonio economy phone bank and painting w  brunch
DESCRIPTION:5/17 San Antonio economy phone bank and painting w  brunch provided. \nJoin The LIBRE Initiative as we phone bank to our constituents about the economy. 9:00 a.m.-1:00 p\,m. \nplease contact Cyndi w your reservation.
URL:https://thelibreinitiative.actcentr.com/Events/5-17-san-antonio-economy-phone-bank-and-painting-w-brunch#new_tab
LOCATION:Signature\, 3711 Medical Dr.\, San Antonio\, TX\, 78229
ORGANIZER;CN="Cyndi Dominguez":MAILTO:Cdominguez@belibre.org
END:VEVENT
BEGIN:VEVENT
DTSTART;TZID=America/Chicago:20250517T090000
DTEND;TZID=America/Chicago:20250517T140000
DTSTAMP:20260421T191650
CREATED:20250508T172600Z
LAST-MODIFIED:20250508T172600Z
UID:4080-1747472400-1747490400@www.freedomisbigger.com
SUMMARY:F.I.B.I.T. Houston\, Texas "Block Walk\, Door nock\, Inform\, have Fun\, Go!"
DESCRIPTION:You’re Invited! 🎉Block Walk\, Door Knock\, Inform\, Have Fun\, Go! \nJoin us for a high-energy\, community-powered event where we hit the streets\, make connections\, and have a blast doing it! Whether you’re a seasoned volunteer or just curious to get involved\, this is your chance to: \n🚶‍♀️ Walk the block🚪 Knock on doors🗣️ Share important info🎉 Have fun with an awesome crew💥 And GO make a difference! \n  \nBring a friend\, wear comfy shoes\, and come ready to energize the neighborhood! Let’s turn passion into action—see you there!
URL:https://thelibreinitiative.actcentr.com/Events/f-i-b-i-t-houston-texas-block-walk-door-nock-inform-have-fun-go_new#new_tab
LOCATION:LIBRE Houston Office\, 11777 KATY FWY\, HOUSTON\, TX\, 77079\, United States
ORGANIZER;CN="Julian Jurado":MAILTO:jjurado@belibre.org
END:VEVENT
BEGIN:VEVENT
DTSTART;TZID=America/Chicago:20250517T090000
DTEND;TZID=America/Chicago:20250517T150000
DTSTAMP:20260421T191650
CREATED:20250508T180922Z
LAST-MODIFIED:20250508T180922Z
UID:4090-1747472400-1747494000@www.freedomisbigger.com
SUMMARY:05/17 Irving\, TX FIBIT Day of Action BlockWalk Party!
DESCRIPTION:🚨This Saturday – Let’s Talk To Our Neighbors!🚨 \nJoin us this May 17th for a high energy FIBIT Day of Action BlockWalk Party 🎈  as we hit the pavement and bring the Freedom is Bigger in Texas message straight to our neighborhoods! \nThis is more than just knocking doors 🚪  – it’s about connecting with our community\, sharing why fiscal  responsibility matters\, and standing up for limited government and economic freedom. \nBecause nothing says “limited government” like unlimited steps. 🏃‍♀️
URL:https://thelibreinitiative.actcentr.com/Events/05-17-irving-tx-fibit-day-of-action-blockwalk-party#new_tab
LOCATION:Agape Connect\, 460 S Belt Line Rd\, Irving\, TX
ORGANIZER;CN="Gerson Hernandez":MAILTO:ghernandez@belibre.org
END:VEVENT
END:VCALENDAR