BEGIN:VCALENDAR
VERSION:2.0
PRODID:-//Freedom is Bigger in Texas - ECPv6.15.18//NONSGML v1.0//EN
CALSCALE:GREGORIAN
METHOD:PUBLISH
X-ORIGINAL-URL:https://www.freedomisbigger.com/es/
X-WR-CALDESC:Eventos para Freedom is Bigger in Texas
REFRESH-INTERVAL;VALUE=DURATION:PT1H
X-Robots-Tag:noindex
X-PUBLISHED-TTL:PT1H
BEGIN:VTIMEZONE
TZID:America/Chicago
BEGIN:DAYLIGHT
TZOFFSETFROM:-0600
TZOFFSETTO:-0500
TZNAME:CDT
DTSTART:20240310T080000
END:DAYLIGHT
BEGIN:STANDARD
TZOFFSETFROM:-0500
TZOFFSETTO:-0600
TZNAME:CST
DTSTART:20241103T070000
END:STANDARD
BEGIN:DAYLIGHT
TZOFFSETFROM:-0600
TZOFFSETTO:-0500
TZNAME:CDT
DTSTART:20250309T080000
END:DAYLIGHT
BEGIN:STANDARD
TZOFFSETFROM:-0500
TZOFFSETTO:-0600
TZNAME:CST
DTSTART:20251102T070000
END:STANDARD
BEGIN:DAYLIGHT
TZOFFSETFROM:-0600
TZOFFSETTO:-0500
TZNAME:CDT
DTSTART:20260308T080000
END:DAYLIGHT
BEGIN:STANDARD
TZOFFSETFROM:-0500
TZOFFSETTO:-0600
TZNAME:CST
DTSTART:20261101T070000
END:STANDARD
END:VTIMEZONE
BEGIN:VEVENT
DTSTART;TZID=America/Chicago:20250511T110000
DTEND;TZID=America/Chicago:20250511T170000
DTSTAMP:20260421T192129
CREATED:20250507T200549Z
LAST-MODIFIED:20250507T200549Z
UID:4060-1746961200-1746982800@www.freedomisbigger.com
SUMMARY:El Paso- Mother's Day Celebration with LIBRE.
DESCRIPTION:Come join LIBRE and El Barrio Sports Club to celebrate together the wonderful women in our lives! Let us come together in this great day to celebrate all mother’s in our community! We will be partnering with our friends from El Barrio Sports Club to give mother’s a day of appreciation in a time where Hispanic families struggle due to the high taxes in our community. We will talk about the importance of being involved in the community and holding elected officials accountable.
URL:https://thelibreinitiative.actcentr.com/Events/el-paso-mother-s-day-celebration#new_tab
LOCATION:El Barrio Park\, 3001 Findley Ave.\, El Paso\, Texas\, 79905
END:VEVENT
END:VCALENDAR