BEGIN:VCALENDAR
VERSION:2.0
PRODID:-//Freedom is Bigger in Texas - ECPv6.15.18//NONSGML v1.0//EN
CALSCALE:GREGORIAN
METHOD:PUBLISH
X-ORIGINAL-URL:https://www.freedomisbigger.com/es/
X-WR-CALDESC:Eventos para Freedom is Bigger in Texas
REFRESH-INTERVAL;VALUE=DURATION:PT1H
X-Robots-Tag:noindex
X-PUBLISHED-TTL:PT1H
BEGIN:VTIMEZONE
TZID:America/Chicago
BEGIN:DAYLIGHT
TZOFFSETFROM:-0600
TZOFFSETTO:-0500
TZNAME:CDT
DTSTART:20240310T080000
END:DAYLIGHT
BEGIN:STANDARD
TZOFFSETFROM:-0500
TZOFFSETTO:-0600
TZNAME:CST
DTSTART:20241103T070000
END:STANDARD
BEGIN:DAYLIGHT
TZOFFSETFROM:-0600
TZOFFSETTO:-0500
TZNAME:CDT
DTSTART:20250309T080000
END:DAYLIGHT
BEGIN:STANDARD
TZOFFSETFROM:-0500
TZOFFSETTO:-0600
TZNAME:CST
DTSTART:20251102T070000
END:STANDARD
BEGIN:DAYLIGHT
TZOFFSETFROM:-0600
TZOFFSETTO:-0500
TZNAME:CDT
DTSTART:20260308T080000
END:DAYLIGHT
BEGIN:STANDARD
TZOFFSETFROM:-0500
TZOFFSETTO:-0600
TZNAME:CST
DTSTART:20261101T070000
END:STANDARD
END:VTIMEZONE
BEGIN:VEVENT
DTSTART;TZID=America/Chicago:20250506T130000
DTEND;TZID=America/Chicago:20250506T190000
DTSTAMP:20260421T191959
CREATED:20250501T153627Z
LAST-MODIFIED:20250501T153627Z
UID:4026-1746536400-1746558000@www.freedomisbigger.com
SUMMARY:05/06 The LIBRE Initiative National Teachers Appreciation Week
DESCRIPTION:Join us this Tuesday as we recognize Teachers and celebrate the hard work of our educators\, whether private\, Public\, or Charter! We will also celebrate the passage of School Choice in TX and the doors that have been opened for teachers and students!
URL:https://thelibreinitiative.actcentr.com/Events/05-06-the-libre-initiative-national-teachers-appreciation-week#new_tab
LOCATION:Agape Connect\, 460 S Belt Line Rd\, Irving\, TX
ORGANIZER;CN="Gerson Hernandez":MAILTO:ghernandez@belibre.org
END:VEVENT
END:VCALENDAR