BEGIN:VCALENDAR
VERSION:2.0
PRODID:-//Freedom is Bigger in Texas - ECPv6.15.18//NONSGML v1.0//EN
CALSCALE:GREGORIAN
METHOD:PUBLISH
X-ORIGINAL-URL:https://www.freedomisbigger.com/es/
X-WR-CALDESC:Eventos para Freedom is Bigger in Texas
REFRESH-INTERVAL;VALUE=DURATION:PT1H
X-Robots-Tag:noindex
X-PUBLISHED-TTL:PT1H
BEGIN:VTIMEZONE
TZID:America/Chicago
BEGIN:DAYLIGHT
TZOFFSETFROM:-0600
TZOFFSETTO:-0500
TZNAME:CDT
DTSTART:20240310T080000
END:DAYLIGHT
BEGIN:STANDARD
TZOFFSETFROM:-0500
TZOFFSETTO:-0600
TZNAME:CST
DTSTART:20241103T070000
END:STANDARD
BEGIN:DAYLIGHT
TZOFFSETFROM:-0600
TZOFFSETTO:-0500
TZNAME:CDT
DTSTART:20250309T080000
END:DAYLIGHT
BEGIN:STANDARD
TZOFFSETFROM:-0500
TZOFFSETTO:-0600
TZNAME:CST
DTSTART:20251102T070000
END:STANDARD
BEGIN:DAYLIGHT
TZOFFSETFROM:-0600
TZOFFSETTO:-0500
TZNAME:CDT
DTSTART:20260308T080000
END:DAYLIGHT
BEGIN:STANDARD
TZOFFSETFROM:-0500
TZOFFSETTO:-0600
TZNAME:CST
DTSTART:20261101T070000
END:STANDARD
END:VTIMEZONE
BEGIN:VEVENT
DTSTART;TZID=America/Chicago:20250503T100000
DTEND;TZID=America/Chicago:20250503T180000
DTSTAMP:20260421T192132
CREATED:20250430T192959Z
LAST-MODIFIED:20250430T192959Z
UID:4000-1746266400-1746295200@www.freedomisbigger.com
SUMMARY:5/3 ESA Bill signing- San Antonio team
DESCRIPTION:Join The LIBRE Initiative on May 3 at the Governor’s Mansion. Thank you for helping with ESAs being passed! \nYou are invited on our van trip up to the Governor’s Mansion\, by invitation only.
URL:https://thelibreinitiative.actcentr.com/Events/4-30-san-antonio-capitol-bus-trip-on-economy-policy#new_tab
ORGANIZER;CN="Cyndi Dominguez":MAILTO:Cdominguez@belibre.org
END:VEVENT
BEGIN:VEVENT
DTSTART;TZID=America/Chicago:20250503T120000
DTEND;TZID=America/Chicago:20250503T170000
DTSTAMP:20260421T192132
CREATED:20250501T151937Z
LAST-MODIFIED:20250501T151937Z
UID:4022-1746273600-1746291600@www.freedomisbigger.com
SUMMARY:
DESCRIPTION:Join us at the Governors Mansion for the Bill Signing Ceremony this 05/03 in Austin\, TX! Dont miss this opportunity as we witness history being made\, removing barriers for many Texan children! \nCelebrate Freedom is Bigger in Texas this weekend!
URL:https://thelibreinitiative.actcentr.com/Events/05-03-the-libre-initiative-bill-signing-ceremony-with-governor-abbott#new_tab
LOCATION:Texas Governors Mansion\, 1010 Colorado St.\, Aaustin\, TX\, 78701
ORGANIZER;CN="Gerson Hernandez":MAILTO:ghernandez@belibre.org
END:VEVENT
END:VCALENDAR