BEGIN:VCALENDAR
VERSION:2.0
PRODID:-//Freedom is Bigger in Texas - ECPv6.15.18//NONSGML v1.0//EN
CALSCALE:GREGORIAN
METHOD:PUBLISH
X-WR-CALNAME:Freedom is Bigger in Texas
X-ORIGINAL-URL:https://www.freedomisbigger.com/es/
X-WR-CALDESC:Eventos para Freedom is Bigger in Texas
REFRESH-INTERVAL;VALUE=DURATION:PT1H
X-Robots-Tag:noindex
X-PUBLISHED-TTL:PT1H
BEGIN:VTIMEZONE
TZID:America/Chicago
BEGIN:DAYLIGHT
TZOFFSETFROM:-0600
TZOFFSETTO:-0500
TZNAME:CDT
DTSTART:20240310T080000
END:DAYLIGHT
BEGIN:STANDARD
TZOFFSETFROM:-0500
TZOFFSETTO:-0600
TZNAME:CST
DTSTART:20241103T070000
END:STANDARD
BEGIN:DAYLIGHT
TZOFFSETFROM:-0600
TZOFFSETTO:-0500
TZNAME:CDT
DTSTART:20250309T080000
END:DAYLIGHT
BEGIN:STANDARD
TZOFFSETFROM:-0500
TZOFFSETTO:-0600
TZNAME:CST
DTSTART:20251102T070000
END:STANDARD
BEGIN:DAYLIGHT
TZOFFSETFROM:-0600
TZOFFSETTO:-0500
TZNAME:CDT
DTSTART:20260308T080000
END:DAYLIGHT
BEGIN:STANDARD
TZOFFSETFROM:-0500
TZOFFSETTO:-0600
TZNAME:CST
DTSTART:20261101T070000
END:STANDARD
END:VTIMEZONE
BEGIN:VEVENT
DTSTART;TZID=America/Chicago:20250424T123000
DTEND;TZID=America/Chicago:20250424T143000
DTSTAMP:20260421T205826
CREATED:20250418T231119Z
LAST-MODIFIED:20250418T231119Z
UID:3932-1745497800-1745505000@www.freedomisbigger.com
SUMMARY:The Roundtable collaboration FIBIT
DESCRIPTION:Join the round table collaboration on Economy as we discuss how we can work together to breakdown internal and external barriers\, the future of our nation and policy that directly affects us.
URL:https://thelibreinitiative.actcentr.com/Events/the-roundtable-collaboration#new_tab
LOCATION:La Madeline\, 810 W McDermott Dr\, Allen\, TX\, 75013\, United States
ORGANIZER;CN="Cyndi Dominguez":MAILTO:Cdominguez@belibre.org
END:VEVENT
BEGIN:VEVENT
DTSTART;TZID=America/Chicago:20250424T130000
DTEND;TZID=America/Chicago:20250424T140000
DTSTAMP:20260421T205826
CREATED:20250418T022348Z
LAST-MODIFIED:20250418T022348Z
UID:3920-1745499600-1745503200@www.freedomisbigger.com
SUMMARY:El Paso- Freedom is Bigger in Texas Ambassador Recruitment
DESCRIPTION:We will be hosting an ambassador recruitment event at the LIBRE Office! Come and learn about why Freedom is Bigger in Texas and how you can keep opportunity and freedom bigger!
URL:https://thelibreinitiative.actcentr.com/Events/el-paso-freedom-is-bigger-in-texas-ambassador-recruitment#new_tab
LOCATION:El Paso LIBRE Field Office.\, 7500 Viscount Blvd. 79925\, El Paso\, TX\, 79925
END:VEVENT
BEGIN:VEVENT
DTSTART;TZID=America/Chicago:20250424T130000
DTEND;TZID=America/Chicago:20250424T143000
DTSTAMP:20260421T205826
CREATED:20250412T195524Z
LAST-MODIFIED:20250412T195524Z
UID:3861-1745499600-1745505000@www.freedomisbigger.com
SUMMARY:El Paso- Freedom is Bigger in Texas Ambassador Recruitment
DESCRIPTION:We will be hosting an ambassador recruitment event at the LIBRE Office! Come and learn about why Freedom is Bigger in Texas and how you can keep opportunity and freedom bigger!
URL:https://thelibreinitiative.actcentr.com/Events/el-paso-freedom-is-bigger-in-texas-ambassador-recruitment#new_tab
LOCATION:El Paso LIBRE Field Office.\, 7500 Viscount Blvd. 79925\, El Paso\, TX\, 79925
END:VEVENT
END:VCALENDAR