BEGIN:VCALENDAR
VERSION:2.0
PRODID:-//Freedom is Bigger in Texas - ECPv6.15.18//NONSGML v1.0//EN
CALSCALE:GREGORIAN
METHOD:PUBLISH
X-WR-CALNAME:Freedom is Bigger in Texas
X-ORIGINAL-URL:https://www.freedomisbigger.com/es/
X-WR-CALDESC:Eventos para Freedom is Bigger in Texas
REFRESH-INTERVAL;VALUE=DURATION:PT1H
X-Robots-Tag:noindex
X-PUBLISHED-TTL:PT1H
BEGIN:VTIMEZONE
TZID:America/Chicago
BEGIN:DAYLIGHT
TZOFFSETFROM:-0600
TZOFFSETTO:-0500
TZNAME:CDT
DTSTART:20240310T080000
END:DAYLIGHT
BEGIN:STANDARD
TZOFFSETFROM:-0500
TZOFFSETTO:-0600
TZNAME:CST
DTSTART:20241103T070000
END:STANDARD
BEGIN:DAYLIGHT
TZOFFSETFROM:-0600
TZOFFSETTO:-0500
TZNAME:CDT
DTSTART:20250309T080000
END:DAYLIGHT
BEGIN:STANDARD
TZOFFSETFROM:-0500
TZOFFSETTO:-0600
TZNAME:CST
DTSTART:20251102T070000
END:STANDARD
BEGIN:DAYLIGHT
TZOFFSETFROM:-0600
TZOFFSETTO:-0500
TZNAME:CDT
DTSTART:20260308T080000
END:DAYLIGHT
BEGIN:STANDARD
TZOFFSETFROM:-0500
TZOFFSETTO:-0600
TZNAME:CST
DTSTART:20261101T070000
END:STANDARD
END:VTIMEZONE
BEGIN:VEVENT
DTSTART;TZID=America/Chicago:20250418T170000
DTEND;TZID=America/Chicago:20250418T200000
DTSTAMP:20260421T205820
CREATED:20250418T021237Z
LAST-MODIFIED:20250418T021237Z
UID:3918-1744995600-1745006400@www.freedomisbigger.com
SUMMARY:04-13-2025 FIBIT Houston\, TX "Economy Policy Gathering"
DESCRIPTION:You’re invited to the Economy Policy Gathering hosted by F.I.B.I.T. and LIBRE INITIATIVE on April 18\, 2025\, in Houston\, TX. Join us for insightful discussions on shaping the future by learning how Certificates of Obligations may affect your wallet. Your presence will be a vital part of fostering meaningful dialogue on how Certificate of Obligations can affect your wallet if local government misused them.
URL:https://thelibreinitiative.actcentr.com/Events/04-13-2025-f-i-b-i-t-houston-tx-economy-policy-gathering#new_tab
LOCATION:LIBRE Houston Office\, 11777 KATY FWY\, HOUSTON\, TX\, 77079\, United States
ORGANIZER;CN="Julian Jurado":MAILTO:jjurado@belibre.org
END:VEVENT
END:VCALENDAR