BEGIN:VCALENDAR
VERSION:2.0
PRODID:-//Freedom is Bigger in Texas - ECPv6.15.18//NONSGML v1.0//EN
CALSCALE:GREGORIAN
METHOD:PUBLISH
X-ORIGINAL-URL:https://www.freedomisbigger.com/es/
X-WR-CALDESC:Eventos para Freedom is Bigger in Texas
REFRESH-INTERVAL;VALUE=DURATION:PT1H
X-Robots-Tag:noindex
X-PUBLISHED-TTL:PT1H
BEGIN:VTIMEZONE
TZID:America/Chicago
BEGIN:DAYLIGHT
TZOFFSETFROM:-0600
TZOFFSETTO:-0500
TZNAME:CDT
DTSTART:20240310T080000
END:DAYLIGHT
BEGIN:STANDARD
TZOFFSETFROM:-0500
TZOFFSETTO:-0600
TZNAME:CST
DTSTART:20241103T070000
END:STANDARD
BEGIN:DAYLIGHT
TZOFFSETFROM:-0600
TZOFFSETTO:-0500
TZNAME:CDT
DTSTART:20250309T080000
END:DAYLIGHT
BEGIN:STANDARD
TZOFFSETFROM:-0500
TZOFFSETTO:-0600
TZNAME:CST
DTSTART:20251102T070000
END:STANDARD
BEGIN:DAYLIGHT
TZOFFSETFROM:-0600
TZOFFSETTO:-0500
TZNAME:CDT
DTSTART:20260308T080000
END:DAYLIGHT
BEGIN:STANDARD
TZOFFSETFROM:-0500
TZOFFSETTO:-0600
TZNAME:CST
DTSTART:20261101T070000
END:STANDARD
END:VTIMEZONE
BEGIN:VEVENT
DTSTART;TZID=America/Chicago:20250306T080000
DTEND;TZID=America/Chicago:20250306T170000
DTSTAMP:20260421T225542
CREATED:20250303T215443Z
LAST-MODIFIED:20250303T215443Z
UID:3788-1741248000-1741280400@www.freedomisbigger.com
SUMMARY:Laredo -Freedom is Bigger In TX - Capitol Visits March 6th
DESCRIPTION:Join The LIBRE Initiative as we travel to Austin for Capitol visits.  We will meet with speak with State Representative Richard Pena Raymond (District 42) and Don McLaughlin (District 80) in support of Education Savings Accounts\, HB3. \nLet your voice be heard. It is time that Parents be given a choice on their child’s education.
URL:https://thelibreinitiative.actcentr.com/Events/laredo-freedom-is-bigger-in-tx-capitol-visits-march-6th#new_tab
LOCATION:Laredo Chamber of Commerce Parking Lot\, 5702 McPherson Rd.\, Laredo\, Texas\, 78041
ORGANIZER;CN="Monica Rodriguez":MAILTO:mrodriguez@belibre.org
END:VEVENT
BEGIN:VEVENT
DTSTART;TZID=America/Chicago:20250306T130000
DTEND;TZID=America/Chicago:20250306T133000
DTSTAMP:20260421T225542
CREATED:20250304T211255Z
LAST-MODIFIED:20250304T211255Z
UID:3797-1741266000-1741267800@www.freedomisbigger.com
SUMMARY:El Paso-FIBIT ESAs Ambassador Training & Recruitment
DESCRIPTION:We will be having a training and recruitment session for our ESA ambassadors. Come see us at El Paso LIBRE office. \nFreedom is Bigger in Texas!
URL:https://thelibreinitiative.actcentr.com/Events/el-paso-fibit-esas-ambassador-training-recruitment_new#new_tab
LOCATION:El Paso LIBRE Field Office.\, 7500 Viscount Blvd. 79925\, El Paso\, TX\, 79925
END:VEVENT
END:VCALENDAR