BEGIN:VCALENDAR
VERSION:2.0
PRODID:-//Freedom is Bigger in Texas - ECPv6.15.18//NONSGML v1.0//EN
CALSCALE:GREGORIAN
METHOD:PUBLISH
X-ORIGINAL-URL:https://www.freedomisbigger.com/es/
X-WR-CALDESC:Eventos para Freedom is Bigger in Texas
REFRESH-INTERVAL;VALUE=DURATION:PT1H
X-Robots-Tag:noindex
X-PUBLISHED-TTL:PT1H
BEGIN:VTIMEZONE
TZID:America/Chicago
BEGIN:DAYLIGHT
TZOFFSETFROM:-0600
TZOFFSETTO:-0500
TZNAME:CDT
DTSTART:20240310T080000
END:DAYLIGHT
BEGIN:STANDARD
TZOFFSETFROM:-0500
TZOFFSETTO:-0600
TZNAME:CST
DTSTART:20241103T070000
END:STANDARD
BEGIN:DAYLIGHT
TZOFFSETFROM:-0600
TZOFFSETTO:-0500
TZNAME:CDT
DTSTART:20250309T080000
END:DAYLIGHT
BEGIN:STANDARD
TZOFFSETFROM:-0500
TZOFFSETTO:-0600
TZNAME:CST
DTSTART:20251102T070000
END:STANDARD
BEGIN:DAYLIGHT
TZOFFSETFROM:-0600
TZOFFSETTO:-0500
TZNAME:CDT
DTSTART:20260308T080000
END:DAYLIGHT
BEGIN:STANDARD
TZOFFSETFROM:-0500
TZOFFSETTO:-0600
TZNAME:CST
DTSTART:20261101T070000
END:STANDARD
END:VTIMEZONE
BEGIN:VEVENT
DTSTART;TZID=America/Chicago:20250228T120000
DTEND;TZID=America/Chicago:20250228T130000
DTSTAMP:20260422T004137
CREATED:20250225T223149Z
LAST-MODIFIED:20250225T223149Z
UID:3754-1740744000-1740747600@www.freedomisbigger.com
SUMMARY:Laredo Freedom Is Bigger in Texas\, Ambassador Event February 28th
DESCRIPTION:Are you ready to make an impact in OUR community? \nJoin us for the 1st Ambassador Meeting in Laredo.  Let’s talk about local and statewide policy. \nTexas must lead the way for other states and nations\, which is why we support for a limited government and more freedom. \nFREEDOM IS BIGGER IN TEXAS!
URL:https://thelibreinitiative.actcentr.com/Events/laredo-freedom-is-bigger-in-texas-be-an-ambassador-february-28th#new_tab
LOCATION:Santa Barra Bar & Grill\, 3910 E Del Mar Blvd.\, Laredo\, TX\, 78045
ORGANIZER;CN="Monica Rodriguez":MAILTO:mrodriguez@belibre.org
END:VEVENT
END:VCALENDAR