BEGIN:VCALENDAR
VERSION:2.0
PRODID:-//Freedom is Bigger in Texas - ECPv6.15.18//NONSGML v1.0//EN
CALSCALE:GREGORIAN
METHOD:PUBLISH
X-ORIGINAL-URL:https://www.freedomisbigger.com/es/
X-WR-CALDESC:Eventos para Freedom is Bigger in Texas
REFRESH-INTERVAL;VALUE=DURATION:PT1H
X-Robots-Tag:noindex
X-PUBLISHED-TTL:PT1H
BEGIN:VTIMEZONE
TZID:America/Chicago
BEGIN:DAYLIGHT
TZOFFSETFROM:-0600
TZOFFSETTO:-0500
TZNAME:CDT
DTSTART:20240310T080000
END:DAYLIGHT
BEGIN:STANDARD
TZOFFSETFROM:-0500
TZOFFSETTO:-0600
TZNAME:CST
DTSTART:20241103T070000
END:STANDARD
BEGIN:DAYLIGHT
TZOFFSETFROM:-0600
TZOFFSETTO:-0500
TZNAME:CDT
DTSTART:20250309T080000
END:DAYLIGHT
BEGIN:STANDARD
TZOFFSETFROM:-0500
TZOFFSETTO:-0600
TZNAME:CST
DTSTART:20251102T070000
END:STANDARD
BEGIN:DAYLIGHT
TZOFFSETFROM:-0600
TZOFFSETTO:-0500
TZNAME:CDT
DTSTART:20260308T080000
END:DAYLIGHT
BEGIN:STANDARD
TZOFFSETFROM:-0500
TZOFFSETTO:-0600
TZNAME:CST
DTSTART:20261101T070000
END:STANDARD
END:VTIMEZONE
BEGIN:VEVENT
DTSTART;TZID=America/Chicago:20250225T080000
DTEND;TZID=America/Chicago:20250225T170000
DTSTAMP:20260421T225717
CREATED:20250225T223818Z
LAST-MODIFIED:20250225T223818Z
UID:3758-1740470400-1740502800@www.freedomisbigger.com
SUMMARY:El Paso-FIBIT El Barrio Park Day
DESCRIPTION:Join us to celebrate the El Barrio Sports Club during their anniversary and to discuss economic opportunity and how you can have an impact! \n  \nFreedom is Bigger in Texas!
URL:https://thelibreinitiative.actcentr.com/Events/el-paso-fibit-el-barrio-park-day#new_tab
LOCATION:El Barrio Park\, 3001 Findley Ave.\, El Paso\, Texas\, 79905
END:VEVENT
END:VCALENDAR